BEGIN:VCALENDAR
VERSION:2.0
PRODID:-//Pack 1 Cub Scouts - Lewes, DE - ECPv6.15.20//NONSGML v1.0//EN
CALSCALE:GREGORIAN
METHOD:PUBLISH
X-WR-CALNAME:Pack 1 Cub Scouts - Lewes, DE
X-ORIGINAL-URL:https://pack1lewes.com
X-WR-CALDESC:Events for Pack 1 Cub Scouts - Lewes, DE
REFRESH-INTERVAL;VALUE=DURATION:PT1H
X-Robots-Tag:noindex
X-PUBLISHED-TTL:PT1H
BEGIN:VTIMEZONE
TZID:America/New_York
BEGIN:DAYLIGHT
TZOFFSETFROM:-0500
TZOFFSETTO:-0400
TZNAME:EDT
DTSTART:20230312T070000
END:DAYLIGHT
BEGIN:STANDARD
TZOFFSETFROM:-0400
TZOFFSETTO:-0500
TZNAME:EST
DTSTART:20231105T060000
END:STANDARD
BEGIN:DAYLIGHT
TZOFFSETFROM:-0500
TZOFFSETTO:-0400
TZNAME:EDT
DTSTART:20240310T070000
END:DAYLIGHT
BEGIN:STANDARD
TZOFFSETFROM:-0400
TZOFFSETTO:-0500
TZNAME:EST
DTSTART:20241103T060000
END:STANDARD
BEGIN:DAYLIGHT
TZOFFSETFROM:-0500
TZOFFSETTO:-0400
TZNAME:EDT
DTSTART:20250309T070000
END:DAYLIGHT
BEGIN:STANDARD
TZOFFSETFROM:-0400
TZOFFSETTO:-0500
TZNAME:EST
DTSTART:20251102T060000
END:STANDARD
END:VTIMEZONE
BEGIN:VEVENT
DTSTART;TZID=America/New_York:20240816T160000
DTEND;TZID=America/New_York:20240818T120000
DTSTAMP:20260425T114047
CREATED:20230601T184930Z
LAST-MODIFIED:20240814T151538Z
UID:3584-1723824000-1723982400@pack1lewes.com
SUMMARY:Summertime Event: Summer Camping Trip CHSP
DESCRIPTION:Join us for our First Summer Camping Trip at Cape Henlopen State Park!\n\nFriday Evening August 16th 4pm thru Sunday August 18th 12pm\n  \n \nThis event is limited due to the size of the dorms. If we get overwhelming registrations\, we can add another dorm. \nWe will be staying in Cape Henlopen State Park Barracks/Dorms; \n\n15 people per dorm\nFurnished with 15 twin beds per dorm\nAir conditioning\nCentral bathhouse with showers\nCentral mess hall includes\n\nLarge dining area\nFull-sized industrial kitchen\n\n\nIndoor recreation space\nOutdoor campfire ring\nOutdoor volleyball net\nWalking distance to the main beach\, The Point\, and the playground\n\nWe will also be providing individual model Rockets for the Scouts to Assemble & Launch on Saturday Morning (Weather & Wind permitting)! \n \nReservation Costs will cover the Site\, Saturday Breakfast\, Lunch\, Dinner\, Sunday Breakfast\, Pack Activities\, depending on which reservation option you choose; \nOption #1 – Friday & Saturday Overnight – $40 per person. \n\n\n\n\n\nIncludes all Meals (Saturday & Sunday) & Activities & Model Rockets.\nFriday Evening meal is on individual campers.\n\n\n\n\n\nOption #2 – Saturday Overnight – $25 per person. \n\n\n\n\n\nIncludes Saturday Lunch & Dinner\,  Sunday Breakfast & Activities.\nDoes NOT include Model Rockets\, but You Can Still Watch the Launches.\n\n\n\n\n\nThis event is limited due to the size of the dorms\, 30 spots available for Option #1 & 15 spots available for Option #2. \nIf we get overwhelming registrations\, we can add another dorm. \nI want to launch a Rocket but I wont be there Friday Night? :\n  \nWe will have several “a la carte” Rocket Kits available on a first come first serve basis for $15\, launches are planned to begin shortly after breakfast.
URL:https://pack1lewes.com/event/summertime-camping-trip/
LOCATION:Cape Henlopen State Park\, 15099 Cape Henlopen Drive\, Lewes\, DE\, 19958\, United States
CATEGORIES:Camping Trip,Pack 1,Summer Time Activity
ATTACH;FMTTYPE=image/png:https://pack1lewes.com/wp-content/uploads/2023/06/CHSP.png
END:VEVENT
BEGIN:VEVENT
DTSTART;TZID=America/New_York:20240817T120000
DTEND;TZID=America/New_York:20240817T170000
DTSTAMP:20260425T114047
CREATED:20240613T204329Z
LAST-MODIFIED:20240614T170935Z
UID:5610-1723896000-1723914000@pack1lewes.com
SUMMARY:2024 Scouting Alumni Gathering
DESCRIPTION:Sussex District Alumni Gathering\n  \nJoin us as we gather around the campfire once again during the 2nd Annual Sussex District Alumni Gathering at Henson Scout Reservation on August 17 from 12:00-5:00 pm.\nAll former and current scouts and scouters in or from Sussex District are invited to attend.\nCheck back soon for program details.\n\n  \nRegistration fee is $10 for an individual or $25 per family. \nClick HERE to Register.
URL:https://pack1lewes.com/event/2024-scouting-alumni-gathering/
LOCATION:Henson Scout Reservavtion\, 5700 Nanticoke Rd\, Rhodesdale\, MD\, 21659\, United States
CATEGORIES:District Activity
ATTACH;FMTTYPE=image/png:https://pack1lewes.com/wp-content/uploads/2023/07/MD_image_16763025340_14764.png
END:VEVENT
BEGIN:VEVENT
DTSTART;TZID=America/New_York:20240817T160000
DTEND;TZID=America/New_York:20240817T170000
DTSTAMP:20260425T114047
CREATED:20240613T131627Z
LAST-MODIFIED:20240802T162735Z
UID:975-1723910400-1723914000@pack1lewes.com
SUMMARY:School Supply Drive - Backpack Packing Event
DESCRIPTION:We are excited to announce yet another summer activity/community service project. We have recently partnered with St. Peter’s Episcopal church\, for a School Supply Drive\, benefiting Cape Henlopen Educational Foundation (CHEF). \nSeveral ranks have a “Duty to God” adventure requirement\, and this act of service will fulfill that requirement. Please check with your den leader\, for more information and to let them know if your scout has participated. \nWays to Participate \nThere are several ways for you and your family to participate in this summer activity/service project: \n\nCollect school supplies from the supplies list and either bring them to Cape Henlopen State Park on Saturday\, August 17th from 4:00-5:00pm or drop them off at the following drop off location below at any time through the morning of Thursday\, August 15th:\n\nPeter’s Episcopal Church\n\n\nWe have put together an Amazon registry of the items needed. Go to the registry and purchase the school supplies.  You can either have them shipped to Assistant Cubmaster Chris Huebler’s home or you can ship them to your home and bring them to our Summer Camping Trip August https://www.amazon.com/hz/wishlist/ls/31DP0N4P5QAMQ?ref_=wl_share\nIf you are unable to collect or purchase school supplies\, you and your scout can volunteer to help us fill the collected backpacks and still receive credit!\n\nBackpack Packing Event \nAll cub scouts and their families are encouraged to join us on Saturday\, August 17th from 4:00-5:00pm in Cape Henlopen State Park to fill the backpacks with the donated supplies so that we can provide the filled backpacks to CHEF for distribution to the students. \nDate: Saturday\, August 17th from 4:00-5:00pm \nLocation: Cape Henlopen State Park Dorms \nAs a Pack we can make this a HUGE success for our community! \nhttps://www.amazon.com/hz/wishlist/ls/31DP0N4P5QAMQ?ref_=wl_share
URL:https://pack1lewes.com/event/school-supply-drive-backpack-packing-event/
LOCATION:Cape Henlopen State Park\, 15099 Cape Henlopen Drive\, Lewes\, DE\, 19958\, United States
CATEGORIES:Pack 1
ATTACH;FMTTYPE=image/png:https://pack1lewes.com/wp-content/uploads/2022/08/IMG_20240613_162430.png
END:VEVENT
END:VCALENDAR