BEGIN:VCALENDAR
VERSION:2.0
PRODID:-//Pack 1 Cub Scouts - Lewes, DE - ECPv6.15.20//NONSGML v1.0//EN
CALSCALE:GREGORIAN
METHOD:PUBLISH
X-ORIGINAL-URL:https://pack1lewes.com
X-WR-CALDESC:Events for Pack 1 Cub Scouts - Lewes, DE
REFRESH-INTERVAL;VALUE=DURATION:PT1H
X-Robots-Tag:noindex
X-PUBLISHED-TTL:PT1H
BEGIN:VTIMEZONE
TZID:America/New_York
BEGIN:DAYLIGHT
TZOFFSETFROM:-0500
TZOFFSETTO:-0400
TZNAME:EDT
DTSTART:20230312T070000
END:DAYLIGHT
BEGIN:STANDARD
TZOFFSETFROM:-0400
TZOFFSETTO:-0500
TZNAME:EST
DTSTART:20231105T060000
END:STANDARD
BEGIN:DAYLIGHT
TZOFFSETFROM:-0500
TZOFFSETTO:-0400
TZNAME:EDT
DTSTART:20240310T070000
END:DAYLIGHT
BEGIN:STANDARD
TZOFFSETFROM:-0400
TZOFFSETTO:-0500
TZNAME:EST
DTSTART:20241103T060000
END:STANDARD
BEGIN:DAYLIGHT
TZOFFSETFROM:-0500
TZOFFSETTO:-0400
TZNAME:EDT
DTSTART:20250309T070000
END:DAYLIGHT
BEGIN:STANDARD
TZOFFSETFROM:-0400
TZOFFSETTO:-0500
TZNAME:EST
DTSTART:20251102T060000
END:STANDARD
END:VTIMEZONE
BEGIN:VEVENT
DTSTART;TZID=America/New_York:20240822T183000
DTEND;TZID=America/New_York:20240822T200000
DTSTAMP:20260425T114136
CREATED:20230605T011251Z
LAST-MODIFIED:20240619T131616Z
UID:3416-1724351400-1724356800@pack1lewes.com
SUMMARY:Summertime Event: Welcome Back Field Day!
DESCRIPTION:FREE Event! \nThis is the final summertime event of our summer 2024 calendar. \nPlease join us for an evening of games at Milton Elementary School. \nScouts\, Families\, Friends\, & Neighbors are all Welcome! \nActivity (Class B) uniforms preferred\, but not required. \nThis is a great event for new and prospective scouts to attend to prepare for the 2023-24 scouting season! \nRSVP kindly requested.
URL:https://pack1lewes.com/event/summertime-event-6-welcome-back-field-day/
LOCATION:Milton Elementary School\, 512 Federal St.\, Milton\, DE\, 19968\, United States
CATEGORIES:Pack 1,Summer Time Activity
ATTACH;FMTTYPE=image/png:https://pack1lewes.com/wp-content/uploads/2023/07/Adventure-Day-2-2.png
END:VEVENT
END:VCALENDAR