BEGIN:VCALENDAR
VERSION:2.0
PRODID:-//Pack 1 Cub Scouts - Lewes, DE - ECPv6.15.20//NONSGML v1.0//EN
CALSCALE:GREGORIAN
METHOD:PUBLISH
X-WR-CALNAME:Pack 1 Cub Scouts - Lewes, DE
X-ORIGINAL-URL:https://pack1lewes.com
X-WR-CALDESC:Events for Pack 1 Cub Scouts - Lewes, DE
REFRESH-INTERVAL;VALUE=DURATION:PT1H
X-Robots-Tag:noindex
X-PUBLISHED-TTL:PT1H
BEGIN:VTIMEZONE
TZID:America/New_York
BEGIN:DAYLIGHT
TZOFFSETFROM:-0500
TZOFFSETTO:-0400
TZNAME:EDT
DTSTART:20230312T070000
END:DAYLIGHT
BEGIN:STANDARD
TZOFFSETFROM:-0400
TZOFFSETTO:-0500
TZNAME:EST
DTSTART:20231105T060000
END:STANDARD
BEGIN:DAYLIGHT
TZOFFSETFROM:-0500
TZOFFSETTO:-0400
TZNAME:EDT
DTSTART:20240310T070000
END:DAYLIGHT
BEGIN:STANDARD
TZOFFSETFROM:-0400
TZOFFSETTO:-0500
TZNAME:EST
DTSTART:20241103T060000
END:STANDARD
BEGIN:DAYLIGHT
TZOFFSETFROM:-0500
TZOFFSETTO:-0400
TZNAME:EDT
DTSTART:20250309T070000
END:DAYLIGHT
BEGIN:STANDARD
TZOFFSETFROM:-0400
TZOFFSETTO:-0500
TZNAME:EST
DTSTART:20251102T060000
END:STANDARD
END:VTIMEZONE
BEGIN:VEVENT
DTSTART;TZID=America/New_York:20240924T183000
DTEND;TZID=America/New_York:20240924T200000
DTSTAMP:20260425T100330
CREATED:20220722T184752Z
LAST-MODIFIED:20240614T170912Z
UID:808-1727202600-1727208000@pack1lewes.com
SUMMARY:September Pack Meeting
DESCRIPTION:All Pack 1 scouts are invited and encouraged to join us for our first pack meeting of the program year at St. Peter’s Episcopal Church in the Parish Hall.
URL:https://pack1lewes.com/event/september-pack-meeting/
LOCATION:St. Peter’s Episcopal Church – Parish Hall\, 211 Mulberry St\, Lewes\, DE\, 19958\, United States
CATEGORIES:Pack 1,Pack Meeting
ATTACH;FMTTYPE=image/png:https://pack1lewes.com/wp-content/uploads/2023/06/PackOne-Lewes-Delmarva-Logo.png
END:VEVENT
END:VCALENDAR