BEGIN:VCALENDAR
VERSION:2.0
PRODID:-//Pack 1 Cub Scouts - Lewes, DE - ECPv6.15.20//NONSGML v1.0//EN
CALSCALE:GREGORIAN
METHOD:PUBLISH
X-ORIGINAL-URL:https://pack1lewes.com
X-WR-CALDESC:Events for Pack 1 Cub Scouts - Lewes, DE
REFRESH-INTERVAL;VALUE=DURATION:PT1H
X-Robots-Tag:noindex
X-PUBLISHED-TTL:PT1H
BEGIN:VTIMEZONE
TZID:America/New_York
BEGIN:DAYLIGHT
TZOFFSETFROM:-0500
TZOFFSETTO:-0400
TZNAME:EDT
DTSTART:20240310T070000
END:DAYLIGHT
BEGIN:STANDARD
TZOFFSETFROM:-0400
TZOFFSETTO:-0500
TZNAME:EST
DTSTART:20241103T060000
END:STANDARD
BEGIN:DAYLIGHT
TZOFFSETFROM:-0500
TZOFFSETTO:-0400
TZNAME:EDT
DTSTART:20250309T070000
END:DAYLIGHT
BEGIN:STANDARD
TZOFFSETFROM:-0400
TZOFFSETTO:-0500
TZNAME:EST
DTSTART:20251102T060000
END:STANDARD
BEGIN:DAYLIGHT
TZOFFSETFROM:-0500
TZOFFSETTO:-0400
TZNAME:EDT
DTSTART:20260308T070000
END:DAYLIGHT
BEGIN:STANDARD
TZOFFSETFROM:-0400
TZOFFSETTO:-0500
TZNAME:EST
DTSTART:20261101T060000
END:STANDARD
END:VTIMEZONE
BEGIN:VEVENT
DTSTART;TZID=America/New_York:20250412T100000
DTEND;TZID=America/New_York:20250412T170000
DTSTAMP:20260424T213652
CREATED:20250317T182535Z
LAST-MODIFIED:20250321T163013Z
UID:6691-1744452000-1744477200@pack1lewes.com
SUMMARY:Coastal District Pinewood Derby
DESCRIPTION:2025 Coastal District Inaugural Pinewood Derby Race\nat St. Jude The Apostle Church\, Life Parish Hall\, 152 Tulip Drive\, Lewes\nSaturday\, April 12\, 2025   \n\nThe boys and girls of Cub Scout Packs from around the Coastal District\, Del-Mar-Va Council\, will be competing in their final race of the Pinewood Derby circuit. We have staggered start times to allow for adequate check-in. Please ensure you arrive with adequate time to prepare for your race.\n\nEach Scout who qualified for this final race earned entry by competing against their fellow Cub Scouts in their home Pack. \n\nEach Pack may send:  2 Lions\, 2 Tigers\, 2 Wolves\, 2 Bears\, 2 Webelos and 2 Arrow of Light. (AOL who have already crossed over are invited to compete)\n\nCost:  $10 per car\n\n***Staggered Starts\n\nLion check in – 10 AM\nTiger check in – 11:15 AM\nWolf check in – 12:15 PM\nBear check in – 1:15 PM\nWebelo check in – 2:15 PM\nAOL check in – 3:15 PM\n\n***Grand Champion Race \n\nWe ask that the Top Racer from each Den Group stay (if possible) for a Grand Champions Race at the Conclusion of the AOL Award Presentation.\nThe victor will take back the Grand Champion Trophy to their Pack as an award.\nAwards will be Awarded for 1st\, 2nd and 3rd per Den Group and 1st\, 2nd and 3rd for Grand Champion Race\n\n***Click the link below to Register to Race! \nhttps://scoutingevent.com/081-SA3Pinewood
URL:https://pack1lewes.com/event/coastal-district-pinewood-derby/
LOCATION:St. Jude The Apostle Church – Parish Hall\, 152 Tulip Dr #1689\, Lewes\, DE\, 19958\, United States
CATEGORIES:District Activity,Pack 1,Special Event
ATTACH;FMTTYPE=image/jpeg:https://pack1lewes.com/wp-content/uploads/2025/03/MD_image_16765783010_14764.jpg
END:VEVENT
END:VCALENDAR