BEGIN:VCALENDAR
VERSION:2.0
PRODID:-//Pack 1 Cub Scouts - Lewes, DE - ECPv6.15.20//NONSGML v1.0//EN
CALSCALE:GREGORIAN
METHOD:PUBLISH
X-WR-CALNAME:Pack 1 Cub Scouts - Lewes, DE
X-ORIGINAL-URL:https://pack1lewes.com
X-WR-CALDESC:Events for Pack 1 Cub Scouts - Lewes, DE
REFRESH-INTERVAL;VALUE=DURATION:PT1H
X-Robots-Tag:noindex
X-PUBLISHED-TTL:PT1H
BEGIN:VTIMEZONE
TZID:America/New_York
BEGIN:DAYLIGHT
TZOFFSETFROM:-0500
TZOFFSETTO:-0400
TZNAME:EDT
DTSTART:20230312T070000
END:DAYLIGHT
BEGIN:STANDARD
TZOFFSETFROM:-0400
TZOFFSETTO:-0500
TZNAME:EST
DTSTART:20231105T060000
END:STANDARD
BEGIN:DAYLIGHT
TZOFFSETFROM:-0500
TZOFFSETTO:-0400
TZNAME:EDT
DTSTART:20240310T070000
END:DAYLIGHT
BEGIN:STANDARD
TZOFFSETFROM:-0400
TZOFFSETTO:-0500
TZNAME:EST
DTSTART:20241103T060000
END:STANDARD
BEGIN:DAYLIGHT
TZOFFSETFROM:-0500
TZOFFSETTO:-0400
TZNAME:EDT
DTSTART:20250309T070000
END:DAYLIGHT
BEGIN:STANDARD
TZOFFSETFROM:-0400
TZOFFSETTO:-0500
TZNAME:EST
DTSTART:20251102T060000
END:STANDARD
BEGIN:DAYLIGHT
TZOFFSETFROM:-0500
TZOFFSETTO:-0400
TZNAME:EDT
DTSTART:20260308T070000
END:DAYLIGHT
BEGIN:STANDARD
TZOFFSETFROM:-0400
TZOFFSETTO:-0500
TZNAME:EST
DTSTART:20261101T060000
END:STANDARD
BEGIN:DAYLIGHT
TZOFFSETFROM:-0500
TZOFFSETTO:-0400
TZNAME:EDT
DTSTART:20270314T070000
END:DAYLIGHT
BEGIN:STANDARD
TZOFFSETFROM:-0400
TZOFFSETTO:-0500
TZNAME:EST
DTSTART:20271107T060000
END:STANDARD
END:VTIMEZONE
BEGIN:VEVENT
DTSTART;TZID=America/New_York:20260411T100000
DTEND;TZID=America/New_York:20260411T170000
DTSTAMP:20260424T062316
CREATED:20251204T214406Z
LAST-MODIFIED:20260302T002935Z
UID:7920-1775901600-1775926800@pack1lewes.com
SUMMARY:Coastal District Pinewood Derby
DESCRIPTION:2026 Coastal District Pinewood Derby Race\nat Avenue United Methodist Church\n20 N Church St\, Milford\, DE 19963\n\nSaturday\, April 11\, 2026    12pm-5pm\n\n\nThis Event is Invitation Only – Do Not Register if you didn’t receive an official invite from Pack One Leadership!\n\n\nCost:  $10.00 per car\n\n\nThe Coastal Pinewood Derby is a fun and energetic Scouting event where youth race small wooden cars they’ve built. The top 2 Winners for each Den Level from each Pack in Coastal District are invited. Cars are weighed\, measured at the Pack Level Pinewood Derby\, a quick check will be done here too at check in before the race to ensure they meet the standard rules. Races are run on a 4 lane sloped aluminum track\, and cars compete in heats\, with times recorded electronically. The Top Finisher from each Den will then Race for an overall District Winner! \nYou don’t need to bring anything special except your Derby Cars & enthusiasm! Families often take photos\, encourage their Scouts\, and celebrate every run\, whether it wins or not. Awards will be given for fastest race times. Most importantly\, the Pinewood Derby is about having fun and supporting youth as they show off something they built with pride. \n***Scouting America’s Pinewood Derby Car Building Rules*** \nEach local Pinewood Derby committee determines the rules for building and racing cars. The committee will need to make sure their rules don’t conflict with those of the district or council to ensure their members can participate in events at those levels. \n\nAll cars must pass the following inspection to qualify for the race:\nWidth shall not exceed 2-3/4 inches.\nLength shall not exceed 7 inches.\nWeight shall not exceed 5 ounces.\nWheelbase shall not be altered from the standard derby kit location.\nAxles\, wheels\, and body shall be from the materials provided in the kit. Additional wheels can be purchased separately.\nWheel bearings\, washers\, and bushings are prohibited.\nNo part of the car may extend in front of/beyond the start gate.\nNo lubricating oil may be used. Axles may be lubricated with powdered graphite or silicone.\nThe car shall not ride on any kind of spring.\nAll 4 wheels must touch the track during the race.\nThe car must be free-wheeling\, with no starting devices.\nNo loose materials of any kind are allowed in the car.\n\nStaggered Start Times will be released closer to the event. \nEvent contact is Chris Huebler at hueblerbsa@gmail.com
URL:https://pack1lewes.com/event/coastal-district-pinewood-derby-2/
LOCATION:Avenue United Methodist Church\, 20 N. Church Street\, Milford\, DE\, 19963\, United States
CATEGORIES:District Activity
ATTACH;FMTTYPE=image/jpeg:https://pack1lewes.com/wp-content/uploads/2025/03/MD_image_16765783010_14764.jpg
END:VEVENT
BEGIN:VEVENT
DTSTART;TZID=America/New_York:20251101T100000
DTEND;TZID=America/New_York:20251101T140000
DTSTAMP:20260424T062316
CREATED:20250602T200517Z
LAST-MODIFIED:20251017T201855Z
UID:6901-1761991200-1762005600@pack1lewes.com
SUMMARY:Coastal District Chariot Derby
DESCRIPTION:2025 Annual Chariot Derby\nAll paid participants will receive a patch\, hotdog\, chips and a drink.\n  \nWhere\nRedden State Forest\n18074 Redden Forest Drive\, Georgetown\, Delaware 19947\n\nWhen\nSaturday\, November 1\, 2025 from 10 am – 2 pm\n\nCost\n$6 per participant\n\n\nRegistration\nClick HERE to register.
URL:https://pack1lewes.com/event/coastal-district-chariot-derby/
LOCATION:Redden State Forest\, 18074 Redden Forest Dr\,\, Georgetown\, DE\, 19947\, United States
CATEGORIES:District Activity,Special Event
ATTACH;FMTTYPE=image/png:https://pack1lewes.com/wp-content/uploads/2025/06/Chariot.png
END:VEVENT
BEGIN:VEVENT
DTSTART;TZID=America/New_York:20251018T100000
DTEND;TZID=America/New_York:20251018T170000
DTSTAMP:20260424T062316
CREATED:20250602T192521Z
LAST-MODIFIED:20250916T182508Z
UID:6881-1760781600-1760806800@pack1lewes.com
SUMMARY:Family Adventure Day @ Akridge
DESCRIPTION:  \nFeel the crisp autumn air and immerse yourself in Scouting! \n\nClimb the Rock Wall\, Shoot BBs\, Archery\, Learn about Nature\, Tie Dye\, Candle Dip\, and More!!!\n\nAll participants in Family Adventure Days will receive a “Del-Mar-Va Council Autumn Camper” patch.  \n\n***If your Cub Scout is a new member of Scouting America who signed up while at a Join Scouting Night\, please reach out to camping@dmvc.org to obtain a coupon code for that new scout. Enrollment date will be verified***\n\n\nCost\n$35/Youth\, $10/Adult\, Siblings under 5 years old are free.\n\nTime\nCheck-in starts at 9:15AM\nProgram starts at 10:00AM and runs until 5:00PM\n\nFood\nBring a bagged lunch and a water bottle.\n\nLate Fee\n\nRegistrations made AFTER October 11\, will be charged a $5 per person late fee.  \nThis is a RAIN OR SHINE EVENT – no refunds or cancellations within 2 weeks of the event except for medical reasons.\n\n  \nAkridge Scout Reservation is located at 1910 Baden Powell Way\, Dover DE \n\n\nRegister HERE\n\n 
URL:https://pack1lewes.com/event/family-adventure-day-akridge/
LOCATION:Akridge Scout Reservation\, 1910 Baden Powell Way\, Dover\, DE\, 19904\, United States
CATEGORIES:District Activity,Special Event
ATTACH;FMTTYPE=image/jpeg:https://pack1lewes.com/wp-content/uploads/2025/06/MD_image_17556348640_14764.jpg
END:VEVENT
BEGIN:VEVENT
DTSTART;TZID=America/New_York:20250919T173000
DTEND;TZID=America/New_York:20250921T090000
DTSTAMP:20260424T062316
CREATED:20250602T193412Z
LAST-MODIFIED:20250829T163255Z
UID:6885-1758303000-1758445200@pack1lewes.com
SUMMARY:Leaders Retreat: Basic Adult Leader Outdoor Orientation
DESCRIPTION:BASIC ADULT LEADER OUTDOOR ORIENTATION (BALOO): \nThis course is designed as an introduction to the Cub Scout outdoor program for those leaders who are interested in adding a camping component to their Den or Pack activities. \nWho should take BALOO? \n\nThe BSA requires that you have at least one BALOO-trained adult on every Cub Scout Den or Pack overnight outdoor event.\nA BALOO-trained leader should be at any overnighter regardless of whether it is a Pack\, District or Council event.\nHaving at least one BALOO-trained adult will make your Cub Scouts’ camping experience as awesome as it can be; but more is even better!\n\nThis Event is for Registered Leaders of Pack One Only\, NO YOUTH \nWhy should I take BALOO? \n\nLeaders who complete BALOO training are better prepared to plan pack den or pack overnight events.\nYou’ll learn how to make camping activities and outings fun. You’ll discover how to keep your Cub Scouts safe and entertained. And you’ll learn how to plan an event that’s rooted firmly in Cub Scouting’s principles.\nSuccessful experiences in the outdoors make Cub Scouts — and their parents — more likely to keep coming back.\n\nHow do I take BALOO? \n\nBALOO consists of two components: online and hands-on. You’ll need to complete both — in order — to qualify as a “Trained” Cub Scout outdoor leader.\n\nOnline component: The online portion of BALOO is available 24/7 on the BSA Learn Center. The goal of the online portion is to make the best use of time to allow leaders to experience as much as possible during the practical hands-on training.  The online training contains introductory and basic information that will be built upon during the practical training.  If you do not present your BALOO online training certificate\, they still will have you take part in the BALOO Training\, but your training will not be entered as complete.  To take the Prerequisite go to https://my.scouting.org/  Click on these:\n\nBSA Learn Center\nExpanded Learning\nBALOO\nBALOO Prerequisite Training\nAdd Plan\nMy Learning\nBSA Learn Center\nExpanded Learning\nBALOO\nBALOO Prerequisite Training\nAdd Plan\nMy Learning\nPlease bring a copy of your BALOO Prerequisite Training completion certificate to the Training.\n\n\nPractical\, hands-on component: In this 1.5-day course\, BSA’s Cub Scout level camping policies will be taught along with the necessary tools to help Packs and Dens carry out a successful camping experience.  Completion of this course is mandatory for at least one adult on a Pack overnighter.\n\n\n\nWHEN: Friday 6:00pm to Sunday 9:00am (Check-In opens at 5:30pm) \n  \n\nPack One Scouters Register HERE
URL:https://pack1lewes.com/event/leaders-retreat-basic-adult-leader-outdoor-orientation/
LOCATION:Holly Lake Campground\, 32087 Holly Lake Rd\, Millsboro\, DE\, 19966\, United States
CATEGORIES:District Activity,Pack 1 Leaders
ATTACH;FMTTYPE=image/png:https://pack1lewes.com/wp-content/uploads/2025/08/BALOO-Logo.png
END:VEVENT
BEGIN:VEVENT
DTSTART;TZID=America/New_York:20250725T130000
DTEND;TZID=America/New_York:20250727T130000
DTSTAMP:20260424T062316
CREATED:20250602T191813Z
LAST-MODIFIED:20250602T191853Z
UID:6877-1753448400-1753621200@pack1lewes.com
SUMMARY:Cub Scout Summer Camp @ Henson
DESCRIPTION:Cub Scout Summer Overnight Camp at Henson Scout Reservation \nCub Scout Summer Overnight Camp at Henson Scout Reservation is a 2-night overnight camping experience for Cub Scouts\, offering a wide array of activities designed to create the perfect Summertime adventure. Come and encounter the best of what Cub Scouts has to offer! \nWho can attend?\nAll Cub Scouts (must have completed Kindergarten) and their families may attend camp.\n\nActivities Will Include\nRange Activities (slingshot\, archery\, BB shooting)\, swimming\, field games\, scout skills\, and much more!\n\nCost\nEarly Bird Price is $175.00 if paid in full on or before June 27\nBeginning June 28 the regular price goes into effect $195.00\n\nPACKS THAT ATTENDED LAST YEAR WILL RECEIVE A LOYALTY AWARD\nPACK ONE DID ATTEND!\n\nDate:\nFriday\, July 25\, 2025 – Sunday\, July 27\, 2025\n\n\n\nRegister HERE
URL:https://pack1lewes.com/event/cub-scout-summer-camp-henson/
LOCATION:Henson Scout Reservavtion\, 5700 Nanticoke Rd\, Rhodesdale\, MD\, 21659\, United States
CATEGORIES:District Activity,Summer Time Activity
ORGANIZER;CN="Dennis Reddington":MAILTO:dennis.redington@sussexvt.k12.de.us
END:VEVENT
BEGIN:VEVENT
DTSTART;TZID=America/New_York:20250623T080000
DTEND;TZID=America/New_York:20250627T160000
DTSTAMP:20260424T062316
CREATED:20250602T191404Z
LAST-MODIFIED:20250602T192034Z
UID:6875-1750665600-1751040000@pack1lewes.com
SUMMARY:Coastal District Day Camp at Sussex Academy
DESCRIPTION:Day Camp at Sussex Academy\nWelcomes boys & girls 1st through 5th grade to register for our day camp to be held June 23 – June 27\, 2025\, program time 8:00 am-4:00 pm\n***Drop off as early as 7:45 am-pick up no later than 4:15 pm**\n***Tiger Scouts and any youth who will be in the first grade in the fall MUST be accompanied by an adult (21+) partner all week.***\n\n\nWhere\n\nThe Sussex Academy of Arts and Sciences Elementary School\n\n\nLunch\n\nCampers need to provide their own lunch/snacks/drinks. Please do not send nut products.\n\nProgram Fees\n\nDeposit\n\nA $50 deposit will be collected at the time of registration to confirm your space at camp.\n\n\nFirst Cub Scout\n\n$100 if paid in full before May 31st\nIf the balance is paid on or after May 31st the cost is $130.\n\n\nSiblings\n\n$85 if paid in full before May 31st.\nIf the balance is paid on or after May 31st the cost is $115.\n\n\nNon-Scout Registrations\n\nIf you have attended a Del-Mar-Va Council event in the past as a non-scout you must complete a Cub Scout membership annual registration ($133) prior to attending another Del-Mar-Va Council event.\n\n\n\n*The first Cub Scout/youth of a family must register at the regular Cub Scout rate\, any additional Cub Scout/youth in the family can then register at the discounted sibling rate.* \n\nProgram for Older Scouts ***This program is for Scouts only.***\n\nThe Older Scout Program is the leadership program for Scouts BSA aged children.\n\n\n\nT-Shirts\nThe first t-shirt is included with camp registration\, additional t shirts are $10 per additional shirt\n\nVolunteers Needed\nAny child who has an adult actively volunteer all five days in their name will receive a $50 rebate when camp is complete.  Adult partners do not qualify for the rebate as they are required by Scouts BSA.\n\n\n\n\nRegister HERE
URL:https://pack1lewes.com/event/coastal-district-day-camp-at-sussex-academy/
LOCATION:Cub Scout Day Camp\, 22051 Wilson Rd\, Georgetown\, DE\, 19947\, United States
CATEGORIES:District Activity,Summer Time Activity
ATTACH;FMTTYPE=image/png:https://pack1lewes.com/wp-content/uploads/2023/06/MD_image_16747670220_14764.png
ORGANIZER;CN="Dennis Reddington":MAILTO:dennis.redington@sussexvt.k12.de.us
END:VEVENT
BEGIN:VEVENT
DTSTART;TZID=America/New_York:20250412T100000
DTEND;TZID=America/New_York:20250412T170000
DTSTAMP:20260424T062316
CREATED:20250317T182535Z
LAST-MODIFIED:20250321T163013Z
UID:6691-1744452000-1744477200@pack1lewes.com
SUMMARY:Coastal District Pinewood Derby
DESCRIPTION:2025 Coastal District Inaugural Pinewood Derby Race\nat St. Jude The Apostle Church\, Life Parish Hall\, 152 Tulip Drive\, Lewes\nSaturday\, April 12\, 2025   \n\nThe boys and girls of Cub Scout Packs from around the Coastal District\, Del-Mar-Va Council\, will be competing in their final race of the Pinewood Derby circuit. We have staggered start times to allow for adequate check-in. Please ensure you arrive with adequate time to prepare for your race.\n\nEach Scout who qualified for this final race earned entry by competing against their fellow Cub Scouts in their home Pack. \n\nEach Pack may send:  2 Lions\, 2 Tigers\, 2 Wolves\, 2 Bears\, 2 Webelos and 2 Arrow of Light. (AOL who have already crossed over are invited to compete)\n\nCost:  $10 per car\n\n***Staggered Starts\n\nLion check in – 10 AM\nTiger check in – 11:15 AM\nWolf check in – 12:15 PM\nBear check in – 1:15 PM\nWebelo check in – 2:15 PM\nAOL check in – 3:15 PM\n\n***Grand Champion Race \n\nWe ask that the Top Racer from each Den Group stay (if possible) for a Grand Champions Race at the Conclusion of the AOL Award Presentation.\nThe victor will take back the Grand Champion Trophy to their Pack as an award.\nAwards will be Awarded for 1st\, 2nd and 3rd per Den Group and 1st\, 2nd and 3rd for Grand Champion Race\n\n***Click the link below to Register to Race! \nhttps://scoutingevent.com/081-SA3Pinewood
URL:https://pack1lewes.com/event/coastal-district-pinewood-derby/
LOCATION:St. Jude The Apostle Church – Parish Hall\, 152 Tulip Dr #1689\, Lewes\, DE\, 19958\, United States
CATEGORIES:District Activity,Pack 1,Special Event
ATTACH;FMTTYPE=image/jpeg:https://pack1lewes.com/wp-content/uploads/2025/03/MD_image_16765783010_14764.jpg
END:VEVENT
BEGIN:VEVENT
DTSTART;TZID=America/New_York:20241102T100000
DTEND;TZID=America/New_York:20241102T140000
DTSTAMP:20260424T062316
CREATED:20220916T190330Z
LAST-MODIFIED:20241029T124724Z
UID:1950-1730541600-1730556000@pack1lewes.com
SUMMARY:Chariot Derby
DESCRIPTION:2024 Annual Chariot Derby\nAll paid participants will receive a patch\, hotdog\, chips and a drink. \nWhere\nRedden State Forest\n18074 Redden Forest Drive\, Georgetown\, Delaware 19947\n\nWhen\nSaturday\, November 2\, 2024 from 10 am – 2 pm\n\nCost\n$6 per participant\n\n\nRegistration\nClick HERE to register.
URL:https://pack1lewes.com/event/chariot-races/
LOCATION:Redden State Forest\, 18074 Redden Forest Dr\,\, Georgetown\, DE\, 19947\, United States
CATEGORIES:District Activity,Special Event
ATTACH;FMTTYPE=image/png:https://pack1lewes.com/wp-content/uploads/2022/09/MD_image_16926383110_14764.png
END:VEVENT
BEGIN:VEVENT
DTSTART;TZID=America/New_York:20240817T120000
DTEND;TZID=America/New_York:20240817T170000
DTSTAMP:20260424T062316
CREATED:20240613T204329Z
LAST-MODIFIED:20240614T170935Z
UID:5610-1723896000-1723914000@pack1lewes.com
SUMMARY:2024 Scouting Alumni Gathering
DESCRIPTION:Sussex District Alumni Gathering\n  \nJoin us as we gather around the campfire once again during the 2nd Annual Sussex District Alumni Gathering at Henson Scout Reservation on August 17 from 12:00-5:00 pm.\nAll former and current scouts and scouters in or from Sussex District are invited to attend.\nCheck back soon for program details.\n\n  \nRegistration fee is $10 for an individual or $25 per family. \nClick HERE to Register.
URL:https://pack1lewes.com/event/2024-scouting-alumni-gathering/
LOCATION:Henson Scout Reservavtion\, 5700 Nanticoke Rd\, Rhodesdale\, MD\, 21659\, United States
CATEGORIES:District Activity
ATTACH;FMTTYPE=image/png:https://pack1lewes.com/wp-content/uploads/2023/07/MD_image_16763025340_14764.png
END:VEVENT
BEGIN:VEVENT
DTSTART;TZID=America/New_York:20240624T073000
DTEND;TZID=America/New_York:20240628T160000
DTSTAMP:20260424T062316
CREATED:20230619T220727Z
LAST-MODIFIED:20240617T133038Z
UID:3797-1719214200-1719590400@pack1lewes.com
SUMMARY:Cub Scout Day Camp
DESCRIPTION:Sussex District Day Camp\n  \n\n\nSussex District Day Camp welcomes boys & girls 1st through 5th grade to register for our day camp to be held June 24 – June 28\, 2024\, program time 8:00 am-4:00 pm\n\n***Drop off as early as 7:45 am-pick up no later than 4:15 pm**\n\n***Tiger Scouts & any youth who will be in the first grade in the fall MUST be accompanied by an adult (21+) partner all week.***\n\n\nWhere\nSussex Academy Elementary\,  22051 Wilson Rd Georgetown\, Delaware 19947\n\nLunch\nCampers need to provide their own lunch/snacks/drinks. Please do not send nut products.\n\nProgram Fees\n* Deposit: A $50 deposit will be collected at the time of registration to confirm your space at camp.\n* First Cub Scout/Non-Scout Youth: $100 if paid in full before May 15th. If the balance is paid on or after May 15th the cost is $130.\n* Siblings: $85 if paid in full before May 15th. If the balance is paid on or after May 15th the cost is $115.\n\n*The first Cub Scout/youth of a family must register at the regular Cub Scout rate\, any additional Cub Scout/youth in the family can then register at the discounted sibling rate.*\n\nEarly Discount\nIf paid before 5/15/2024 a discount of $30.00 will apply to all youth.\n\nPit Crew Program for Older Scouts\n\nThe Pit Crew Older Scout Program is the leadership program for Scouts BSA aged children.\n\n\n\nT-Shirts\nThe first t-shirt is included with camp registration\, additional t shirts are $10 per additional shirt\n\nVolunteers Needed\nAny child who has an adult actively volunteer all five days in their name will receive a $50 rebate when camp is complete.  Adult partners do not qualify for the rebate as they are required by Scouts BSA.\n\n\n\nContact Information\nAdditional questions\, please contact Dennis Redington at dennis.redington@sussexvt.k12.de.us\n\n\nRegister Here\n  \nAll Scouts & Adult Volunteers will need to bring  filled & signed Medical Form A & B with them\, any Non- Scout youth will need a signed Activity Consent Form. \n680-001_ABC Medical Release \n19-673 Activity Consent
URL:https://pack1lewes.com/event/cub-scout-day-camp/
LOCATION:Cub Scout Day Camp\, 22051 Wilson Rd\, Georgetown\, DE\, 19947\, United States
CATEGORIES:District Activity,Pack 1,Special Event
ATTACH;FMTTYPE=image/jpeg:https://pack1lewes.com/wp-content/uploads/2023/06/DayCamp-2024.jpg
END:VEVENT
END:VCALENDAR