BEGIN:VCALENDAR
VERSION:2.0
PRODID:-//Pack 1 Cub Scouts - Lewes, DE - ECPv6.15.20//NONSGML v1.0//EN
CALSCALE:GREGORIAN
METHOD:PUBLISH
X-ORIGINAL-URL:https://pack1lewes.com
X-WR-CALDESC:Events for Pack 1 Cub Scouts - Lewes, DE
REFRESH-INTERVAL;VALUE=DURATION:PT1H
X-Robots-Tag:noindex
X-PUBLISHED-TTL:PT1H
BEGIN:VTIMEZONE
TZID:America/New_York
BEGIN:DAYLIGHT
TZOFFSETFROM:-0500
TZOFFSETTO:-0400
TZNAME:EDT
DTSTART:20230312T070000
END:DAYLIGHT
BEGIN:STANDARD
TZOFFSETFROM:-0400
TZOFFSETTO:-0500
TZNAME:EST
DTSTART:20231105T060000
END:STANDARD
BEGIN:DAYLIGHT
TZOFFSETFROM:-0500
TZOFFSETTO:-0400
TZNAME:EDT
DTSTART:20240310T070000
END:DAYLIGHT
BEGIN:STANDARD
TZOFFSETFROM:-0400
TZOFFSETTO:-0500
TZNAME:EST
DTSTART:20241103T060000
END:STANDARD
BEGIN:DAYLIGHT
TZOFFSETFROM:-0500
TZOFFSETTO:-0400
TZNAME:EDT
DTSTART:20250309T070000
END:DAYLIGHT
BEGIN:STANDARD
TZOFFSETFROM:-0400
TZOFFSETTO:-0500
TZNAME:EST
DTSTART:20251102T060000
END:STANDARD
BEGIN:DAYLIGHT
TZOFFSETFROM:-0500
TZOFFSETTO:-0400
TZNAME:EDT
DTSTART:20260308T070000
END:DAYLIGHT
BEGIN:STANDARD
TZOFFSETFROM:-0400
TZOFFSETTO:-0500
TZNAME:EST
DTSTART:20261101T060000
END:STANDARD
END:VTIMEZONE
BEGIN:VEVENT
DTSTART;TZID=America/New_York:20250601T150000
DTEND;TZID=America/New_York:20250601T170000
DTSTAMP:20260424T074426
CREATED:20220722T160330Z
LAST-MODIFIED:20240618T123642Z
UID:859-1748790000-1748797200@pack1lewes.com
SUMMARY:Annual Pack Committee Meeting
DESCRIPTION:All Pack 1 cub scout adults (leaders and parents) are invited to join us in our annual pack committee meeting. \nAll Leaders strongly encouraged to attend. \nThis is when the 2025-26 scouting program year will be planned. \nPlease no children.
URL:https://pack1lewes.com/event/annual-pack-committee-meeting/
LOCATION:St. Peter’s Episcopal Church – Parish Hall\, 211 Mulberry St\, Lewes\, DE\, 19958\, United States
CATEGORIES:Committee Meeting,Pack 1
ATTACH;FMTTYPE=image/jpeg:https://pack1lewes.com/wp-content/uploads/2022/08/istockphoto-176197633-612x612-1.jpg
END:VEVENT
BEGIN:VEVENT
DTSTART;TZID=America/New_York:20250512T160000
DTEND;TZID=America/New_York:20250512T193000
DTSTAMP:20260424T074426
CREATED:20250414T183005Z
LAST-MODIFIED:20250414T183146Z
UID:6761-1747065600-1747078200@pack1lewes.com
SUMMARY:Community Day at Love Creek Elementary
DESCRIPTION:Community Day at Love Creek Elementary School\nMay 12th 4pm-730pm\nBring the Whole Family!
URL:https://pack1lewes.com/event/community-day-at-love-creek-elementary/
LOCATION:Love Creek Elementary\, 19488 John J Williams Hwy\, Lewes\, DE\, 19968\, United States
CATEGORIES:Pack 1,Pack 1 Committee,Pack 1 Leaders,Special Event
ATTACH;FMTTYPE=image/png:https://pack1lewes.com/wp-content/uploads/2025/04/LCE-Community-Day-Flyer.png
END:VEVENT
BEGIN:VEVENT
DTSTART;TZID=America/New_York:20241207T154500
DTEND;TZID=America/New_York:20241207T183000
DTSTAMP:20260424T074426
CREATED:20220722T153349Z
LAST-MODIFIED:20240614T175216Z
UID:828-1733586300-1733596200@pack1lewes.com
SUMMARY:Lewes Christmas Parade
DESCRIPTION:All Pack 1 cub scouts are invited to join the pack in walking in the Lewes Christmas Parade. \nUniform is Activity (Class B) or Field (Class A) showing/over coats & jackets. Holiday accessories are encouraged. \nWe will meet in the Lewes Elementary School bus lot\, walk down Savannah Rd.\, turn left on 2nd Street and end our home at the St. Peter’s. \nRSVP kindly Requested.
URL:https://pack1lewes.com/event/lewes-christmas-parade/
LOCATION:Lewes Elementary School\, 820 Savannah Road\, Lewes\, DE\, 19958\, United States
CATEGORIES:Pack 1,Pack 1 Committee,Special Event
ATTACH;FMTTYPE=image/jpeg:https://pack1lewes.com/wp-content/uploads/2022/07/christmas-parade-clipart-3-600x475-1.jpeg
END:VEVENT
BEGIN:VEVENT
DTSTART;TZID=America/New_York:20241202T193000
DTEND;TZID=America/New_York:20241202T210000
DTSTAMP:20260424T074426
CREATED:20240918T211414Z
LAST-MODIFIED:20240918T211414Z
UID:6116-1733167800-1733173200@pack1lewes.com
SUMMARY:December Committee Meeting
DESCRIPTION:All Pack 1 cub scout adults (leaders and parents) are invited to join us in our committee meeting. \nAttendance is optional for non-committee members. \nPlease no children.
URL:https://pack1lewes.com/event/december-committee-meeting/
LOCATION:St. Peter’s Episcopal Church – Conference Room\, 211 Mulberry Street\, Lewes\, DE\, 19958\, United States
CATEGORIES:Committee Meeting,Pack 1,Pack 1 Committee
ATTACH;FMTTYPE=image/jpeg:https://pack1lewes.com/wp-content/uploads/2022/08/istockphoto-176197633-612x612-1.jpg
END:VEVENT
BEGIN:VEVENT
DTSTART;TZID=America/New_York:20241104T193000
DTEND;TZID=America/New_York:20241104T210000
DTSTAMP:20260424T074426
CREATED:20240918T211238Z
LAST-MODIFIED:20240918T211238Z
UID:6114-1730748600-1730754000@pack1lewes.com
SUMMARY:November Committee Meeting
DESCRIPTION:All Pack 1 cub scout adults (leaders and parents) are invited to join us in our committee meeting. \nAttendance is optional for non-committee members. \nPlease no children.
URL:https://pack1lewes.com/event/november-committee-meeting/
LOCATION:St. Peter’s Episcopal Church – Conference Room\, 211 Mulberry Street\, Lewes\, DE\, 19958\, United States
CATEGORIES:Committee Meeting,Pack 1,Pack 1 Committee
ATTACH;FMTTYPE=image/jpeg:https://pack1lewes.com/wp-content/uploads/2022/08/istockphoto-176197633-612x612-1.jpg
END:VEVENT
BEGIN:VEVENT
DTSTART;TZID=America/New_York:20241007T193000
DTEND;TZID=America/New_York:20241007T210000
DTSTAMP:20260424T074426
CREATED:20240918T210927Z
LAST-MODIFIED:20240918T211005Z
UID:6111-1728329400-1728334800@pack1lewes.com
SUMMARY:October Committee Meeting
DESCRIPTION:All Pack 1 cub scout adults (leaders and parents) are invited to join us in our committee meeting. \nAttendance is optional for non-committee members. \nPlease no children.
URL:https://pack1lewes.com/event/october-committee-meeting/
LOCATION:St. Peter’s Episcopal Church – Conference Room\, 211 Mulberry Street\, Lewes\, DE\, 19958\, United States
CATEGORIES:Committee Meeting,Pack 1,Pack 1 Committee
ATTACH;FMTTYPE=image/jpeg:https://pack1lewes.com/wp-content/uploads/2022/08/istockphoto-176197633-612x612-1.jpg
END:VEVENT
END:VCALENDAR