BEGIN:VCALENDAR
VERSION:2.0
PRODID:-//Pack 1 Cub Scouts - Lewes, DE - ECPv6.15.20//NONSGML v1.0//EN
CALSCALE:GREGORIAN
METHOD:PUBLISH
X-ORIGINAL-URL:https://pack1lewes.com
X-WR-CALDESC:Events for Pack 1 Cub Scouts - Lewes, DE
REFRESH-INTERVAL;VALUE=DURATION:PT1H
X-Robots-Tag:noindex
X-PUBLISHED-TTL:PT1H
BEGIN:VTIMEZONE
TZID:America/New_York
BEGIN:DAYLIGHT
TZOFFSETFROM:-0500
TZOFFSETTO:-0400
TZNAME:EDT
DTSTART:20230312T070000
END:DAYLIGHT
BEGIN:STANDARD
TZOFFSETFROM:-0400
TZOFFSETTO:-0500
TZNAME:EST
DTSTART:20231105T060000
END:STANDARD
BEGIN:DAYLIGHT
TZOFFSETFROM:-0500
TZOFFSETTO:-0400
TZNAME:EDT
DTSTART:20240310T070000
END:DAYLIGHT
BEGIN:STANDARD
TZOFFSETFROM:-0400
TZOFFSETTO:-0500
TZNAME:EST
DTSTART:20241103T060000
END:STANDARD
BEGIN:DAYLIGHT
TZOFFSETFROM:-0500
TZOFFSETTO:-0400
TZNAME:EDT
DTSTART:20250309T070000
END:DAYLIGHT
BEGIN:STANDARD
TZOFFSETFROM:-0400
TZOFFSETTO:-0500
TZNAME:EST
DTSTART:20251102T060000
END:STANDARD
BEGIN:DAYLIGHT
TZOFFSETFROM:-0500
TZOFFSETTO:-0400
TZNAME:EDT
DTSTART:20260308T070000
END:DAYLIGHT
BEGIN:STANDARD
TZOFFSETFROM:-0400
TZOFFSETTO:-0500
TZNAME:EST
DTSTART:20261101T060000
END:STANDARD
BEGIN:DAYLIGHT
TZOFFSETFROM:-0500
TZOFFSETTO:-0400
TZNAME:EDT
DTSTART:20270314T070000
END:DAYLIGHT
BEGIN:STANDARD
TZOFFSETFROM:-0400
TZOFFSETTO:-0500
TZNAME:EST
DTSTART:20271107T060000
END:STANDARD
END:VTIMEZONE
BEGIN:VEVENT
DTSTART;TZID=America/New_York:20260130T160000
DTEND;TZID=America/New_York:20260201T120000
DTSTAMP:20260424T045614
CREATED:20251203T200046Z
LAST-MODIFIED:20251222T183300Z
UID:7895-1769788800-1769947200@pack1lewes.com
SUMMARY:The Big Chill 2026
DESCRIPTION:RSVP Required\, Limited Space Event.  \nAll Pack 1 families are invited to join us on our annual Big Chill camping trip January 30th-February 1st\, a two-night camping trip at the Rodney Scout Reservation. \nThis will be a large cabin trip\, with wood fired stove heating\, and bunk style beds. Top bunks have integrated side rails to keep Scouts in! A bathhouse (hot water) will also be available. \nPlease pack to keep warm during the days & especially at night! Plan/Pack for warm & cold & wet & dry weather! \nPack 1 will provide breakfast\, lunch and dinner on Saturday as well as breakfast on Sunday morning. \nWe’ll have an amazing Campfire Program with a US Flag Retirement Ceremony as well. \nIndividual Dens will be hosting “Cracker-Barrel” (snacks) on Friday evening. \nSaturday will have a hike up & over “Bull Mountain” plus stops at the Trading Post & Gaga Ball pit. \nFor information on what items to bring\, please see our handy checklist. \nThis camping trip is always a Scout favorite! \nSpots are limited\, only 72 beds are available. \nDue to the overwhelmingly successful Popcorn Fundraiser\, Pack One is covering 99% of the costs! \nCost: $1/adult\, $1/youth. \nRequirements to attend: \n\nPurchase tickets to reserve your spot prior to attending. Please also reserve for your Scouts\, even with no cost!\nComplete and submit medical forms Part A & B for each person attending the trip\, Adult\, Scout & Youth. Pre-Submit your activity forms too for the hike.
URL:https://pack1lewes.com/event/the-big-chill-2026/
LOCATION:Rodney Scout Reservation\, 400 Rodney Scout Rd\, North East\, MD\, 21901\, United States
CATEGORIES:Camping Trip,Pack 1
ATTACH;FMTTYPE=image/png:https://pack1lewes.com/wp-content/uploads/2022/07/TheBIgChill.png
END:VEVENT
BEGIN:VEVENT
DTSTART;TZID=America/New_York:20251024T170000
DTEND;TZID=America/New_York:20251026T120000
DTSTAMP:20260424T045614
CREATED:20250602T195253Z
LAST-MODIFIED:20251014T110258Z
UID:6889-1761325200-1761480000@pack1lewes.com
SUMMARY:Fall Camping Trip @ Assateague Island State Park
DESCRIPTION:All Pack 1 families are invited to join us on our fall camping trip to Assateague Island State Park\n\n\n \nOctober 24-26 2025\nScouts will be be participating in our Annual Raingutter Regatta Race\, Beach Fishing & More!\n \nPack 1 will provide breakfast\, lunch and dinner on Saturday as well as breakfast on Sunday morning.\n  \nFor information on what items to bring\, please see our handy checklist. \n  \nCosts: Scouts are FREE!\nFriday & Saturday; Adults are $35\, Youth are $25.\nRegatta & Saturday Night Only\, Adults are $25\, Youth are $15.\n  \nPlease Register by October 20th so we have time to prepare & shop. Thank you.\n  \nRequirements to attend: \n\nPurchase tickets to reserve your spot prior to attending\nComplete and submit medical forms Part A & B for each person attending the trip. Adults\, Scouts & Youth.\n\n\n\n 
URL:https://pack1lewes.com/event/assateague/
LOCATION:Assateague Island State Park\, ​​7307 Stephen Decatur Highway\, Berlin\, MD\, 21811\, United States
CATEGORIES:Camping Trip,Pack 1,Special Event
ATTACH;FMTTYPE=image/jpeg:https://pack1lewes.com/wp-content/uploads/2025/06/fpostersmallwall_texturesquare_product600x600.jpg
END:VEVENT
BEGIN:VEVENT
DTSTART;TZID=America/New_York:20251004T120000
DTEND;TZID=America/New_York:20251005T120000
DTSTAMP:20260424T045614
CREATED:20250802T162028Z
LAST-MODIFIED:20250930T142152Z
UID:7083-1759579200-1759665600@pack1lewes.com
SUMMARY:AOL's Present Downs Park Camping Trip
DESCRIPTION:AOL Den Presents Downs Park Camping Trip\n  \n\nDowns Park – October 4th-5th 2025\n\n\n8311 John Downs Loop\, Pasadena\, MD 21122\n\nSituated on the Chesapeake Bay\, Downs Park offers a variety of natural and recreational activities throughout its 236 acres. Downs Park offers more than five miles of paved and natural trails. \n\nDowns Park offers a fishing pier\, children’s playground\, two basketball courts and an amazing view of the Chesapeake Bay. Reserve one of the three large outdoor pavilions for groups up to 100 people and one small pavilion for up to 50 people. A wedding garden\, youth camping area and the Chesapeake Room are available for rent. Downs Park offers an amazing spot to launch a kayak at the Locust Cove Cartop Boat Launch.\nThe park property has a rich history which has been preserved by the Downs Park Historical Society. Volunteer groups include the Friends of Downs Park\, Garden Volunteers\, Volunteers-in-the-Park and the Downs Park Quilters Guild.\n\nMore Programming info to come….\n\n\n.\n.\n.\n.\n\n\nCosts: Scouts are FREE! Adults are $35\, Youth are $25\n\n** Spots are Limited to 60 Campers **\n\nPlease Register by September 30th so we have time to prepare & shop. Thank you.\n  \nRequirements to attend: \n\nPurchase tickets to reserve your spot prior to attending\nComplete and submit medical forms Part A & B for each person attending the trip. Adults\, Scouts & Youth.
URL:https://pack1lewes.com/event/aol-2025-camping-trip/
LOCATION:Downs Park\, 8311 John Downs Loop\, Pasadena\, MD\, 21122\, United States
CATEGORIES:Camping Trip,Pack 1
ATTACH;FMTTYPE=image/png:https://pack1lewes.com/wp-content/uploads/2025/08/downs-park-fall.png
END:VEVENT
BEGIN:VEVENT
DTSTART;TZID=America/New_York:20250425T160000
DTEND;TZID=America/New_York:20250427T120000
DTSTAMP:20260424T045614
CREATED:20220722T155631Z
LAST-MODIFIED:20250414T163215Z
UID:850-1745596800-1745755200@pack1lewes.com
SUMMARY:Spring Camping Trip - Pocomoke River State Park
DESCRIPTION:Reservations Required \nAll Pack 1 families are invited to join us for our Spring camping trip April 25th – April 27th 2025\, a two-night camping trip at Pocomoke State Park – Milburn. \nPack 1 will provide breakfast\, lunch and dinner on Saturday as well as breakfast on Sunday morning. \nIndividual Dens will be hosting “Cracker-Barrel” on Friday evening. \nFor information on what items to bring\, please see our handy checklist. \nPlanned Activities \n\nCampfire Program\nFishing Adventure Loops for all Dens\nGeocaching / Treasure Hunt Activity\nNature Hike\nAnd More!!\n\nCost: $40/adult\, all Scouts & Youth are FREE! \nRequirements to attend: \n\nPurchase tickets to reserve your spot prior to attending\nComplete and submit medical forms Part A & B for each person attending the trip\, Adult\, Scout & Youth\, as well as an Activity Waiver Form for Fishing.
URL:https://pack1lewes.com/event/spring-camping-trip/
LOCATION:Pocomoke State Park – Milburn\, 3036 Nassawango Rd\, Pocomoke City\, MD\, 21851\, United States
CATEGORIES:Camping Trip
ATTACH;FMTTYPE=image/jpeg:https://pack1lewes.com/wp-content/uploads/2022/07/top-center-prsp-sm.jpg
END:VEVENT
BEGIN:VEVENT
DTSTART;TZID=America/New_York:20250131T150000
DTEND;TZID=America/New_York:20250202T120000
DTSTAMP:20260424T045614
CREATED:20220722T154026Z
LAST-MODIFIED:20250127T131443Z
UID:835-1738335600-1738497600@pack1lewes.com
SUMMARY:Big Chill Camping Trip
DESCRIPTION:RSVP Required\, Limited Space Event.  \nAll Pack 1 families are invited to join us on our annual Big Chill camping trip January 31st-February 2nd\, a two-night camping trip at the Rodney Scout Reservation. \nThis will be a large cabin trip\, with heating\, and bunk style beds. Top bunks have integrated side rails to keep Scouts in! A bathhouse (hot water) will also be available. \nPlease pack to keep warm during the days & especially at night! Plan for warm & cold & wet & dry weather! \nPack 1 will provide breakfast\, lunch and dinner on Saturday as well as breakfast on Sunday morning. \nWe’ll have a campfire program with a US Flag Retirement Ceremony as well. \nIndividual Dens will be hosting “Cracker-Barrel” on Friday evening. \nSaturday will have a hike up & over “Bull Mountain” plus stops at the Trading Post & Gaga Ball pit. \nFor information on what items to bring\, please see our handy checklist. \nThis camping trip is always a Scout favorite! \nSpots are limited\, only 68 bunks are available. \nCost: $60/adult\, Scouts are free. $25/additional youth &/or siblings. \nRequirements to attend: \n\nPurchase tickets to reserve your spot prior to attending. Please also reserve for your Scouts\, even with no cost!\nComplete and submit medical forms Part A & B for each person attending the trip\, Adult\, Scout & Youth. Pre-Submit your activity forms too for the hike.
URL:https://pack1lewes.com/event/big-chill-camping-trip/
LOCATION:Rodney Scout Reservation\, 400 Rodney Scout Rd\, North East\, MD\, 21901\, United States
CATEGORIES:Camping Trip
ATTACH;FMTTYPE=image/png:https://pack1lewes.com/wp-content/uploads/2022/07/TheBIgChill.png
END:VEVENT
BEGIN:VEVENT
DTSTART;TZID=America/New_York:20241018T160000
DTEND;TZID=America/New_York:20241020T120000
DTSTAMP:20260424T045614
CREATED:20220722T150256Z
LAST-MODIFIED:20240920T155452Z
UID:818-1729267200-1729425600@pack1lewes.com
SUMMARY:Fall Camping Trip
DESCRIPTION:All Pack 1 families are invited to join us on our fall camping trip at Hazel Outdoor Discovery Center. \nOctober 18-20 2024 \nThis is a 1 or 2 night camping trip. \nPack 1 will provide breakfast\, lunch and dinner on Saturday as well as breakfast on Sunday morning. \nFor information on what items to bring\, please see our handy checklist. \nCost: \n\nFriday & Saturday Night (All Meals & Activities)   $30 Adults\, Youth FREE\nSaturday Night Only (Lunch\, Dinner\, Breakfast\, Campfire)   $25 Adults\, Youth FREE\n\nRequirements to attend: \n\nPurchase tickets to reserve your spot prior to attending\nComplete and submit medical forms Part A & B for each person attending the trip. Adults\, Scouts & Children.\n\n 
URL:https://pack1lewes.com/event/fall-camping-trip/
LOCATION:Hazel Outdoor Discovery Center\, 4025 Cooper Rd\, Eden\, MD\, 21822\, United States
CATEGORIES:Camping Trip,Pack 1
ATTACH;FMTTYPE=image/png:https://pack1lewes.com/wp-content/uploads/2022/07/hdoc-logo.png
END:VEVENT
BEGIN:VEVENT
DTSTART;TZID=America/New_York:20240913T150000
DTEND;TZID=America/New_York:20240915T120000
DTSTAMP:20260424T045614
CREATED:20230605T011858Z
LAST-MODIFIED:20240904T214859Z
UID:3722-1726239600-1726401600@pack1lewes.com
SUMMARY:AOL Camping Trip: Camp Snyder Udvar-Hazy Center
DESCRIPTION:You are invited to attend the 2024 AOL planned camping trip at Camp Snyder in Haymarket\, Virginia. This trip is open to all Pack One Scouts & Families\, but space is limited to 46 spots. \nLocated in Prince William County Virginia\, Camp William B. Snyder encompasses 350-acres including a managed wetland. A premier camping location within the National Capital Area Council of the Boy Scouts of America\, the facility has been open to Cub Scouts\, Boy Scouts\, Venturers and community organizations since 2006. \nA visit to the Smithsonian’s National Air & Space Museum Steven F. Udvar-Hazy Center is planned; \n \nThe Steven F. Udvar-Hazy Center near Washington Dulles International Airport is the companion facility to the museum in Washington\, D.C. Hundreds of historically significant air- and spacecraft\, along with thousands of small artifacts\, are on display in an open\, hangar-like setting. Other features of the Center include the Donald D. Engen Observation Tower\, the Airbus IMAX Theater\, and the Mary Baker Engen Restoration Hangar\, where visitors can watch museum specialists at work restoring artifacts. See the Space Shuttle Discovery; B-29 Superfortress Enola Gay; Concorde\, Lockheed Martin SR-71 Blackbird & Boeing Stratoliner to name a few. \nCOST: $30 per adult\, Youth are FREE includes Saturday Breakfast\, Lunch & Dinner\, Sunday Breakfast. Friday meals are on the individual campers.
URL:https://pack1lewes.com/event/aol-camping-trip/
LOCATION:Camp Syder\, 6100 Antioch Road\, Haymarket\, VA\, 20169\, United States
CATEGORIES:Camping Trip,Pack 1
ATTACH;FMTTYPE=image/jpeg:https://pack1lewes.com/wp-content/uploads/2022/07/images.jpg
END:VEVENT
BEGIN:VEVENT
DTSTART;TZID=America/New_York:20240816T160000
DTEND;TZID=America/New_York:20240818T120000
DTSTAMP:20260424T045614
CREATED:20230601T184930Z
LAST-MODIFIED:20240814T151538Z
UID:3584-1723824000-1723982400@pack1lewes.com
SUMMARY:Summertime Event: Summer Camping Trip CHSP
DESCRIPTION:Join us for our First Summer Camping Trip at Cape Henlopen State Park!\n\nFriday Evening August 16th 4pm thru Sunday August 18th 12pm\n  \n \nThis event is limited due to the size of the dorms. If we get overwhelming registrations\, we can add another dorm. \nWe will be staying in Cape Henlopen State Park Barracks/Dorms; \n\n15 people per dorm\nFurnished with 15 twin beds per dorm\nAir conditioning\nCentral bathhouse with showers\nCentral mess hall includes\n\nLarge dining area\nFull-sized industrial kitchen\n\n\nIndoor recreation space\nOutdoor campfire ring\nOutdoor volleyball net\nWalking distance to the main beach\, The Point\, and the playground\n\nWe will also be providing individual model Rockets for the Scouts to Assemble & Launch on Saturday Morning (Weather & Wind permitting)! \n \nReservation Costs will cover the Site\, Saturday Breakfast\, Lunch\, Dinner\, Sunday Breakfast\, Pack Activities\, depending on which reservation option you choose; \nOption #1 – Friday & Saturday Overnight – $40 per person. \n\n\n\n\n\nIncludes all Meals (Saturday & Sunday) & Activities & Model Rockets.\nFriday Evening meal is on individual campers.\n\n\n\n\n\nOption #2 – Saturday Overnight – $25 per person. \n\n\n\n\n\nIncludes Saturday Lunch & Dinner\,  Sunday Breakfast & Activities.\nDoes NOT include Model Rockets\, but You Can Still Watch the Launches.\n\n\n\n\n\nThis event is limited due to the size of the dorms\, 30 spots available for Option #1 & 15 spots available for Option #2. \nIf we get overwhelming registrations\, we can add another dorm. \nI want to launch a Rocket but I wont be there Friday Night? :\n  \nWe will have several “a la carte” Rocket Kits available on a first come first serve basis for $15\, launches are planned to begin shortly after breakfast.
URL:https://pack1lewes.com/event/summertime-camping-trip/
LOCATION:Cape Henlopen State Park\, 15099 Cape Henlopen Drive\, Lewes\, DE\, 19958\, United States
CATEGORIES:Camping Trip,Pack 1,Summer Time Activity
ATTACH;FMTTYPE=image/png:https://pack1lewes.com/wp-content/uploads/2023/06/CHSP.png
END:VEVENT
BEGIN:VEVENT
DTSTART;TZID=America/New_York:20240426T160000
DTEND;TZID=America/New_York:20240428T120000
DTSTAMP:20260424T045614
CREATED:20230605T014326Z
LAST-MODIFIED:20240614T171030Z
UID:3432-1714147200-1714305600@pack1lewes.com
SUMMARY:Spring Camping Trip at Trap Pond
DESCRIPTION:Our Spring camping trip will take place at Trap Pond State Park campground from Friday\, April 26th at 4pm – Sunday\, April 28th at 12pm.\n  \nThis is a great two night camping trip to attend whether you are an expert or have never camped before. While we encourage you to spend either Saturday night or both Friday & Saturday nights\, all Scouts & Families are welcome to join us for activities on Saturday. Our Campfire program will be on Saturday evening. The campground has indoor restrooms\, plus a bathhouse nearby. Meals will be provided for Saturday breakfast\, lunch & dinner\, plus Sunday breakfast. Friday evening meals will be on individual Dens or Families.\n  \nCost for Both Friday & Saturday Nights: $35/adult $20/child\, Scouts are free \nCost for Saturday Night Only: $25/adult $15/child\, Scouts are free \nCost for Saturday Activities\, Meals & Campfire: $20/adult $10/child\, Scouts are free \nPLEASE ONLY SELECT ONE OF THE THREE OPTIONS FOR  YOUR TICKETS.
URL:https://pack1lewes.com/event/spring-camping-trip-at-trap-pond/
LOCATION:Trap Pond State Park\, 33587 Baldcypress Lane\, Laurel\, 19956
CATEGORIES:Camping Trip,Pack 1
ATTACH;FMTTYPE=image/jpeg:https://pack1lewes.com/wp-content/uploads/2023/05/Trap-Pond-Sign.jpeg
END:VEVENT
END:VCALENDAR