BEGIN:VCALENDAR
VERSION:2.0
PRODID:-//Pack 1 Cub Scouts - Lewes, DE - ECPv6.15.20//NONSGML v1.0//EN
CALSCALE:GREGORIAN
METHOD:PUBLISH
X-ORIGINAL-URL:https://pack1lewes.com
X-WR-CALDESC:Events for Pack 1 Cub Scouts - Lewes, DE
REFRESH-INTERVAL;VALUE=DURATION:PT1H
X-Robots-Tag:noindex
X-PUBLISHED-TTL:PT1H
BEGIN:VTIMEZONE
TZID:America/New_York
BEGIN:DAYLIGHT
TZOFFSETFROM:-0500
TZOFFSETTO:-0400
TZNAME:EDT
DTSTART:20230312T070000
END:DAYLIGHT
BEGIN:STANDARD
TZOFFSETFROM:-0400
TZOFFSETTO:-0500
TZNAME:EST
DTSTART:20231105T060000
END:STANDARD
BEGIN:DAYLIGHT
TZOFFSETFROM:-0500
TZOFFSETTO:-0400
TZNAME:EDT
DTSTART:20240310T070000
END:DAYLIGHT
BEGIN:STANDARD
TZOFFSETFROM:-0400
TZOFFSETTO:-0500
TZNAME:EST
DTSTART:20241103T060000
END:STANDARD
BEGIN:DAYLIGHT
TZOFFSETFROM:-0500
TZOFFSETTO:-0400
TZNAME:EDT
DTSTART:20250309T070000
END:DAYLIGHT
BEGIN:STANDARD
TZOFFSETFROM:-0400
TZOFFSETTO:-0500
TZNAME:EST
DTSTART:20251102T060000
END:STANDARD
BEGIN:DAYLIGHT
TZOFFSETFROM:-0500
TZOFFSETTO:-0400
TZNAME:EDT
DTSTART:20260308T070000
END:DAYLIGHT
BEGIN:STANDARD
TZOFFSETFROM:-0400
TZOFFSETTO:-0500
TZNAME:EST
DTSTART:20261101T060000
END:STANDARD
END:VTIMEZONE
BEGIN:VEVENT
DTSTART;TZID=America/New_York:20250915T180000
DTEND;TZID=America/New_York:20250919T190000
DTSTAMP:20260424T080201
CREATED:20250602T201040Z
LAST-MODIFIED:20250829T163512Z
UID:6903-1757959200-1758308400@pack1lewes.com
SUMMARY:First Week of Den Meetings
DESCRIPTION:The first week of Den Meetings for Pack One Cub Scouts.\n  \nYour Den leader will update their Scoutbook+ Calendars & will also contact you with the date and time of your meetings via the Pack One WhatsApp Community.\n  \nTo subscribe to your Den Calendar\, head over to Scoutbook+ HERE
URL:https://pack1lewes.com/event/first-week-of-den-meetings-3/
CATEGORIES:Den Meetings,Pack 1
ATTACH;FMTTYPE=image/png:https://pack1lewes.com/wp-content/uploads/2023/06/PackOne-Lewes-Delmarva-Logo.png
END:VEVENT
BEGIN:VEVENT
DTSTART;VALUE=DATE:20240908
DTEND;VALUE=DATE:20240914
DTSTAMP:20260424T080201
CREATED:20220722T184428Z
LAST-MODIFIED:20240614T170917Z
UID:806-1725836400-1726268399@pack1lewes.com
SUMMARY:First Week of Den Meetings
DESCRIPTION:The first week of den meetings for cub scouts.  Your den leader will contact you with the date and time of your meeting.
URL:https://pack1lewes.com/event/first-week-of-den-meetings/
CATEGORIES:Den Meetings,Pack 1
ATTACH;FMTTYPE=image/jpeg:https://pack1lewes.com/wp-content/uploads/2023/07/AdventureOn__Fall-2023_Social_CSBC-01.jpg
END:VEVENT
END:VCALENDAR