BEGIN:VCALENDAR
VERSION:2.0
PRODID:-//Pack 1 Cub Scouts - Lewes, DE - ECPv6.15.20//NONSGML v1.0//EN
CALSCALE:GREGORIAN
METHOD:PUBLISH
X-WR-CALNAME:Pack 1 Cub Scouts - Lewes, DE
X-ORIGINAL-URL:https://pack1lewes.com
X-WR-CALDESC:Events for Pack 1 Cub Scouts - Lewes, DE
REFRESH-INTERVAL;VALUE=DURATION:PT1H
X-Robots-Tag:noindex
X-PUBLISHED-TTL:PT1H
BEGIN:VTIMEZONE
TZID:America/New_York
BEGIN:DAYLIGHT
TZOFFSETFROM:-0500
TZOFFSETTO:-0400
TZNAME:EDT
DTSTART:20240310T070000
END:DAYLIGHT
BEGIN:STANDARD
TZOFFSETFROM:-0400
TZOFFSETTO:-0500
TZNAME:EST
DTSTART:20241103T060000
END:STANDARD
BEGIN:DAYLIGHT
TZOFFSETFROM:-0500
TZOFFSETTO:-0400
TZNAME:EDT
DTSTART:20250309T070000
END:DAYLIGHT
BEGIN:STANDARD
TZOFFSETFROM:-0400
TZOFFSETTO:-0500
TZNAME:EST
DTSTART:20251102T060000
END:STANDARD
BEGIN:DAYLIGHT
TZOFFSETFROM:-0500
TZOFFSETTO:-0400
TZNAME:EDT
DTSTART:20260308T070000
END:DAYLIGHT
BEGIN:STANDARD
TZOFFSETFROM:-0400
TZOFFSETTO:-0500
TZNAME:EST
DTSTART:20261101T060000
END:STANDARD
END:VTIMEZONE
BEGIN:VEVENT
DTSTART;TZID=America/New_York:20250121T183000
DTEND;TZID=America/New_York:20250121T200000
DTSTAMP:20260425T072211
CREATED:20220722T154247Z
LAST-MODIFIED:20240617T182150Z
UID:838-1737484200-1737489600@pack1lewes.com
SUMMARY:January Pack Meeting & Pinewood Derby Car Clinic
DESCRIPTION:All Pack 1 scouts are invited and encouraged to join us for our December pack meeting at St. Peter’s Episcopal Church in the Parish Hall. \nWe will also be cutting out Pinewood Derby cars during the meeting.  If you want our adult leaders to cut out your car for you\, please arrive at the meeting with your cars design clearly drawn on the block of wood.  Our adult leaders will then cut the cars during the meeting and return them to the scouts at the end of the meeting.
URL:https://pack1lewes.com/event/january-pack-meeting/
LOCATION:St. Peter’s Episcopal Church – Parish Hall\, 211 Mulberry St\, Lewes\, DE\, 19958\, United States
CATEGORIES:Pack Meeting
ATTACH;FMTTYPE=image/png:https://pack1lewes.com/wp-content/uploads/2023/06/PackOne-Lewes-Delmarva-Logo.png
END:VEVENT
END:VCALENDAR