BEGIN:VCALENDAR
VERSION:2.0
PRODID:-//Pack 1 Cub Scouts - Lewes, DE - ECPv6.15.20//NONSGML v1.0//EN
CALSCALE:GREGORIAN
METHOD:PUBLISH
X-ORIGINAL-URL:https://pack1lewes.com
X-WR-CALDESC:Events for Pack 1 Cub Scouts - Lewes, DE
REFRESH-INTERVAL;VALUE=DURATION:PT1H
X-Robots-Tag:noindex
X-PUBLISHED-TTL:PT1H
BEGIN:VTIMEZONE
TZID:America/New_York
BEGIN:DAYLIGHT
TZOFFSETFROM:-0500
TZOFFSETTO:-0400
TZNAME:EDT
DTSTART:20240310T070000
END:DAYLIGHT
BEGIN:STANDARD
TZOFFSETFROM:-0400
TZOFFSETTO:-0500
TZNAME:EST
DTSTART:20241103T060000
END:STANDARD
BEGIN:DAYLIGHT
TZOFFSETFROM:-0500
TZOFFSETTO:-0400
TZNAME:EDT
DTSTART:20250309T070000
END:DAYLIGHT
BEGIN:STANDARD
TZOFFSETFROM:-0400
TZOFFSETTO:-0500
TZNAME:EST
DTSTART:20251102T060000
END:STANDARD
BEGIN:DAYLIGHT
TZOFFSETFROM:-0500
TZOFFSETTO:-0400
TZNAME:EDT
DTSTART:20260308T070000
END:DAYLIGHT
BEGIN:STANDARD
TZOFFSETFROM:-0400
TZOFFSETTO:-0500
TZNAME:EST
DTSTART:20261101T060000
END:STANDARD
END:VTIMEZONE
BEGIN:VEVENT
DTSTART;TZID=America/New_York:20250706T183000
DTEND;TZID=America/New_York:20250706T200000
DTSTAMP:20260424T231339
CREATED:20250429T145925Z
LAST-MODIFIED:20250701T114855Z
UID:6792-1751826600-1751832000@pack1lewes.com
SUMMARY:2025 Summertime Event: Beach Cleanup & Campfire
DESCRIPTION:FREE Event! \nAll Pack 1 scouts and families are invited to join us the evening of July 6th at 6:30pm on Johnnie Walker Beach (Lewes Beach #2). \nWe will be doing a beach cleanup service event and having a Campfire with a U.S. flag retirement ceremony. \nActivity (Class B) uniforms preferred\, but not required. \nThis is a free event for the entire family.  Friends (prospective scouts) are also welcome to attend! \nRSVP kindly Requested Below
URL:https://pack1lewes.com/event/summertime-2025-event-beach-cleanup/
LOCATION:Johnnie Walker Beach\, 1 Georgia Ave\, Lewes\, DE\, 19958\, United States
CATEGORIES:Pack 1,Summer Time Activity
ATTACH;FMTTYPE=image/jpeg:https://pack1lewes.com/wp-content/uploads/2023/05/american-flag-beach-american-flag-beach-sunny-day-new-york-108392845.jpg
END:VEVENT
END:VCALENDAR