BEGIN:VCALENDAR
VERSION:2.0
PRODID:-//Pack 1 Cub Scouts - Lewes, DE - ECPv6.15.20//NONSGML v1.0//EN
CALSCALE:GREGORIAN
METHOD:PUBLISH
X-WR-CALNAME:Pack 1 Cub Scouts - Lewes, DE
X-ORIGINAL-URL:https://pack1lewes.com
X-WR-CALDESC:Events for Pack 1 Cub Scouts - Lewes, DE
REFRESH-INTERVAL;VALUE=DURATION:PT1H
X-Robots-Tag:noindex
X-PUBLISHED-TTL:PT1H
BEGIN:VTIMEZONE
TZID:America/New_York
BEGIN:DAYLIGHT
TZOFFSETFROM:-0500
TZOFFSETTO:-0400
TZNAME:EDT
DTSTART:20230312T070000
END:DAYLIGHT
BEGIN:STANDARD
TZOFFSETFROM:-0400
TZOFFSETTO:-0500
TZNAME:EST
DTSTART:20231105T060000
END:STANDARD
BEGIN:DAYLIGHT
TZOFFSETFROM:-0500
TZOFFSETTO:-0400
TZNAME:EDT
DTSTART:20240310T070000
END:DAYLIGHT
BEGIN:STANDARD
TZOFFSETFROM:-0400
TZOFFSETTO:-0500
TZNAME:EST
DTSTART:20241103T060000
END:STANDARD
BEGIN:DAYLIGHT
TZOFFSETFROM:-0500
TZOFFSETTO:-0400
TZNAME:EDT
DTSTART:20250309T070000
END:DAYLIGHT
BEGIN:STANDARD
TZOFFSETFROM:-0400
TZOFFSETTO:-0500
TZNAME:EST
DTSTART:20251102T060000
END:STANDARD
BEGIN:DAYLIGHT
TZOFFSETFROM:-0500
TZOFFSETTO:-0400
TZNAME:EDT
DTSTART:20260308T070000
END:DAYLIGHT
BEGIN:STANDARD
TZOFFSETFROM:-0400
TZOFFSETTO:-0500
TZNAME:EST
DTSTART:20261101T060000
END:STANDARD
END:VTIMEZONE
BEGIN:VEVENT
DTSTART;TZID=America/New_York:20250820T180000
DTEND;TZID=America/New_York:20250820T200000
DTSTAMP:20260424T080034
CREATED:20250602T182055Z
LAST-MODIFIED:20250602T183001Z
UID:6862-1755712800-1755720000@pack1lewes.com
SUMMARY:2025 Summertime Event: Sunset Dolphin Cruise
DESCRIPTION:Join us for a Sunset Cruise with Cape Water Tours from 6:00pm-8:00pm on August 20th.\n  \nThis event is limited to 50 people and is $25/person. Please reach out to Pack Leadership if the event is sold out. \nThe Delaware Bay Evening Cruise\, although not narrated\, offers our guests stunning views of popular local attractions such as the East End Lighthouse\, Cape Henlopen Point\, the Cape May Lewes Ferry terminal\, Lewes Beach\, and Cape Henlopen State Park\, just to name a few. \nThis popular cruise operates from Anglers Fishing Center\, sailing into the Delaware Bay via the Roosevelt Inlet. Please check your departure time upon making reservations\, as they will vary with the changing sunset times throughout the season. \nIf there are unfavorable wind or wave conditions on the bay\, this cruise will remain in the sheltered waters of the Broadkill River and/or Lewes-Rehoboth canal. Join us for beautiful views of some of our most popular local attractions\, and the chance to see wildlife and enjoy the sunset. \nActivity (Class B) uniforms preferred\, but not required. \nThe Dock is located in Lewes\, take Route 9 East. Cross the drawbridge and make an immediate left onto Anglers Road. Our Dock is just past Irish Eyes Restaurant\, on the left\, behind the white building with the blue roof that says\, “Anglers Fishing Center”. \nThis event is limited to 50 people and is $25/person. Please reach out to Pack Leadership if the event is sold out.
URL:https://pack1lewes.com/event/2025-summertime-event-sunset-dolphin-cruise/
LOCATION:Cape Water Tours\, 217 Anglers Rd\, Lewes\, DE\, 19958\, United States
CATEGORIES:Pack 1,Summer Time Activity
ATTACH;FMTTYPE=image/jpeg:https://pack1lewes.com/wp-content/uploads/2023/07/279619345_5035121109875936_1993237344127307232_n.jpg
END:VEVENT
BEGIN:VEVENT
DTSTART;TZID=America/New_York:20250725T130000
DTEND;TZID=America/New_York:20250727T130000
DTSTAMP:20260424T080034
CREATED:20250602T191813Z
LAST-MODIFIED:20250602T191853Z
UID:6877-1753448400-1753621200@pack1lewes.com
SUMMARY:Cub Scout Summer Camp @ Henson
DESCRIPTION:Cub Scout Summer Overnight Camp at Henson Scout Reservation \nCub Scout Summer Overnight Camp at Henson Scout Reservation is a 2-night overnight camping experience for Cub Scouts\, offering a wide array of activities designed to create the perfect Summertime adventure. Come and encounter the best of what Cub Scouts has to offer! \nWho can attend?\nAll Cub Scouts (must have completed Kindergarten) and their families may attend camp.\n\nActivities Will Include\nRange Activities (slingshot\, archery\, BB shooting)\, swimming\, field games\, scout skills\, and much more!\n\nCost\nEarly Bird Price is $175.00 if paid in full on or before June 27\nBeginning June 28 the regular price goes into effect $195.00\n\nPACKS THAT ATTENDED LAST YEAR WILL RECEIVE A LOYALTY AWARD\nPACK ONE DID ATTEND!\n\nDate:\nFriday\, July 25\, 2025 – Sunday\, July 27\, 2025\n\n\n\nRegister HERE
URL:https://pack1lewes.com/event/cub-scout-summer-camp-henson/
LOCATION:Henson Scout Reservavtion\, 5700 Nanticoke Rd\, Rhodesdale\, MD\, 21659\, United States
CATEGORIES:District Activity,Summer Time Activity
ORGANIZER;CN="Dennis Reddington":MAILTO:dennis.redington@sussexvt.k12.de.us
END:VEVENT
BEGIN:VEVENT
DTSTART;TZID=America/New_York:20250724T190000
DTEND;TZID=America/New_York:20250724T210000
DTSTAMP:20260424T080034
CREATED:20250602T181140Z
LAST-MODIFIED:20250722T110233Z
UID:6859-1753383600-1753390800@pack1lewes.com
SUMMARY:2025 Summertime Event: Delmarva Shorebirds
DESCRIPTION:All Pack 1 scouts and families are invited to join us at the Delmarva Shorebirds game on July 24th vs Lynchburg Hillcats.\n  \nGame starts at 7:00pm.  Tickets are $13 per person.  Everyone is welcome to join! \nPromotions at the game include; Scout Night Patch for all & Jackson Holliday Jerseys for the first 1000 fans. \nLimited Event\, 40 tickets available. \nActivity (Class B) uniforms preferred\, but not required. \nRSVP via Ticket Purchase is required by July 22nd. 
URL:https://pack1lewes.com/event/2025-summertime-event-delmarva-shorebirds/
LOCATION:Perdue Stadium\, 6400 Hobbs Rd.\, Salisbury\, MD\, 21804\, United States
CATEGORIES:Pack 1,Summer Time Activity
ATTACH;FMTTYPE=image/png:https://pack1lewes.com/wp-content/uploads/2022/07/DelmarvaShorebirdsLogo.png
END:VEVENT
BEGIN:VEVENT
DTSTART;TZID=America/New_York:20250713T100000
DTEND;TZID=America/New_York:20250713T130000
DTSTAMP:20260424T080034
CREATED:20250606T112046Z
LAST-MODIFIED:20250606T112304Z
UID:6867-1752400800-1752411600@pack1lewes.com
SUMMARY:2025 Summertime Event: Furnacetown
DESCRIPTION:All Pack 1 scouts and families are invited to join us at Furnacetown on July 13th 10am-1pm.\n  \nCost $6 per person.\n  \nNassawango Iron Furnace\nFrom 1828-1850 the Nassawango Iron Furnace was in its heyday. Many workers – miners\, sawyers\, colliers\, molders\, draymen\, and bargemen – labored to make iron. They gathered bog ore from Nassawango swamp\, brought clam and oyster shells up the canal via the Pocomoke River from the Chesapeake Bay\, and made charcoal in the Pocomoke Forest. \nThese raw materials were loaded into the Iron Furnace from the top\, heated to 3\,000 degrees\, and the two resulting liquids were drawn off at the bottom of the furnace. Slag was cooled and tossed into the swamp. Iron was poured into molds and loaded onto barges which were towed down the canal by mule to waiting ships for transport to Baltimore\, Philadelphia\, and New York. \nMaryland Iron Company\nFurnace Town (also called Nescongo or Nasseongo) was a company town\, built by the Maryland Iron Company. About 300 people lived and worked here. Families tended gardens\, hunted for sustenance\, kept house\, cooked\, and cleaned. Children did chores\, went to school (sometimes)\, and played. Contemporary reports paint a picture of small neat yards and flowers in bloom\, amidst the noisy industry. There were blacksmiths\, broom makers\, wainwrights\, wheelwrights\, bakers\, cobblers\, coopers\, and weavers among the skilled workers. \nBy 1850 bankruptcy was declared. The sale advertisement listed 7\,000 acres embracing immense beds of iron ore. Included in the offering were the Furnace\, the Grist Mill and Saw Mill\, the Iron Master’s Mansion\, houses\, store\, barns\, buildings\, tools\, 21\,000 bushels of charcoal\, and 1\,650 tons of ore. \nFollowing the insolvency\, all of the residents\, previously employed in the service of the Furnace moved away to seek employment. A few families stayed on to run a boarding house and the Grist Mill. By 1929\, only the foundations of the buildings and the Furnace remained. All of the wooded structures had rotted away\, and the Forest reclaimed the previously bustling worksite. \nRestoration work began under the guidance of the Worcester County Historical Society in the 1960’s. In 1982\, Furnace Town Foundation Inc. was formed to own\, operate\, and interpret the museum historic site. \nWhat to Expect: Artisan Tours and Interactive Stations\nDuring your tour\, Scouts will have the chance to visit a variety of interactive stations\, depending on availability. Stations may include: \n\n\nThe Woodworker’s Shop \n\n\nThe Blacksmith \n\n\nThe Broom Maker \n\n\nThe Weaver \n\n\nThe School House \n\n\nThe Nassawango Iron Furnace \n\n\nOutdoor Recreation & Games \n\n\nHousehold Living \n\n\nEach station offers a hands-on approach to learning about the skills and daily lives of the past\, making history both educational and fun. \nBring a bagged Lunch to eat outdoors following the event!\n  \nActivity (Class B) uniforms preferred\, but not required. \nRSVP via Ticket Purchase is required by July 12th. 
URL:https://pack1lewes.com/event/2025-summertime-event-furnacetown/
LOCATION:Furnacetown\, 3816 Old Furnace Road\, Snow Hill\, MD\, 21863\, United States
CATEGORIES:Pack 1,Summer Time Activity
END:VEVENT
BEGIN:VEVENT
DTSTART;TZID=America/New_York:20250706T183000
DTEND;TZID=America/New_York:20250706T200000
DTSTAMP:20260424T080034
CREATED:20250429T145925Z
LAST-MODIFIED:20250701T114855Z
UID:6792-1751826600-1751832000@pack1lewes.com
SUMMARY:2025 Summertime Event: Beach Cleanup & Campfire
DESCRIPTION:FREE Event! \nAll Pack 1 scouts and families are invited to join us the evening of July 6th at 6:30pm on Johnnie Walker Beach (Lewes Beach #2). \nWe will be doing a beach cleanup service event and having a Campfire with a U.S. flag retirement ceremony. \nActivity (Class B) uniforms preferred\, but not required. \nThis is a free event for the entire family.  Friends (prospective scouts) are also welcome to attend! \nRSVP kindly Requested Below
URL:https://pack1lewes.com/event/summertime-2025-event-beach-cleanup/
LOCATION:Johnnie Walker Beach\, 1 Georgia Ave\, Lewes\, DE\, 19958\, United States
CATEGORIES:Pack 1,Summer Time Activity
ATTACH;FMTTYPE=image/jpeg:https://pack1lewes.com/wp-content/uploads/2023/05/american-flag-beach-american-flag-beach-sunny-day-new-york-108392845.jpg
END:VEVENT
BEGIN:VEVENT
DTSTART;TZID=America/New_York:20250623T080000
DTEND;TZID=America/New_York:20250627T160000
DTSTAMP:20260424T080034
CREATED:20250602T191404Z
LAST-MODIFIED:20250602T192034Z
UID:6875-1750665600-1751040000@pack1lewes.com
SUMMARY:Coastal District Day Camp at Sussex Academy
DESCRIPTION:Day Camp at Sussex Academy\nWelcomes boys & girls 1st through 5th grade to register for our day camp to be held June 23 – June 27\, 2025\, program time 8:00 am-4:00 pm\n***Drop off as early as 7:45 am-pick up no later than 4:15 pm**\n***Tiger Scouts and any youth who will be in the first grade in the fall MUST be accompanied by an adult (21+) partner all week.***\n\n\nWhere\n\nThe Sussex Academy of Arts and Sciences Elementary School\n\n\nLunch\n\nCampers need to provide their own lunch/snacks/drinks. Please do not send nut products.\n\nProgram Fees\n\nDeposit\n\nA $50 deposit will be collected at the time of registration to confirm your space at camp.\n\n\nFirst Cub Scout\n\n$100 if paid in full before May 31st\nIf the balance is paid on or after May 31st the cost is $130.\n\n\nSiblings\n\n$85 if paid in full before May 31st.\nIf the balance is paid on or after May 31st the cost is $115.\n\n\nNon-Scout Registrations\n\nIf you have attended a Del-Mar-Va Council event in the past as a non-scout you must complete a Cub Scout membership annual registration ($133) prior to attending another Del-Mar-Va Council event.\n\n\n\n*The first Cub Scout/youth of a family must register at the regular Cub Scout rate\, any additional Cub Scout/youth in the family can then register at the discounted sibling rate.* \n\nProgram for Older Scouts ***This program is for Scouts only.***\n\nThe Older Scout Program is the leadership program for Scouts BSA aged children.\n\n\n\nT-Shirts\nThe first t-shirt is included with camp registration\, additional t shirts are $10 per additional shirt\n\nVolunteers Needed\nAny child who has an adult actively volunteer all five days in their name will receive a $50 rebate when camp is complete.  Adult partners do not qualify for the rebate as they are required by Scouts BSA.\n\n\n\n\nRegister HERE
URL:https://pack1lewes.com/event/coastal-district-day-camp-at-sussex-academy/
LOCATION:Cub Scout Day Camp\, 22051 Wilson Rd\, Georgetown\, DE\, 19947\, United States
CATEGORIES:District Activity,Summer Time Activity
ATTACH;FMTTYPE=image/png:https://pack1lewes.com/wp-content/uploads/2023/06/MD_image_16747670220_14764.png
ORGANIZER;CN="Dennis Reddington":MAILTO:dennis.redington@sussexvt.k12.de.us
END:VEVENT
BEGIN:VEVENT
DTSTART;TZID=America/New_York:20250615T130000
DTEND;TZID=America/New_York:20250615T170000
DTSTAMP:20260424T080034
CREATED:20250317T185036Z
LAST-MODIFIED:20250602T182643Z
UID:6698-1749992400-1750006800@pack1lewes.com
SUMMARY:Scouts Day @ The Baltimore Orioles
DESCRIPTION:Scout Day w/the Orioles \n\n\n\nSunday\, June 15\, 2025 \nCamden Yards \n1:00 PM \nTicket sales end May 11th\, 2025. \n \n  \nOrioles tickets will be available for pick up May 29th at the\nBaltimore Area Council or Dorsey Road Scout Shop. \nAssistant Cubmaster Chris will be picking up all the tickets from the Scout Shop prior to the event. \n 
URL:https://pack1lewes.com/event/scouts-day-the-baltimore-orioles/
LOCATION:Oriole Park at Camden Yards\, 333 W Camden St\, Baltimore\, MD\, 21201\, United States
CATEGORIES:Pack 1,Special Event,Summer Time Activity
ATTACH;FMTTYPE=image/png:https://pack1lewes.com/wp-content/uploads/2025/03/Screenshot-2025-03-17-144940.png
END:VEVENT
BEGIN:VEVENT
DTSTART;TZID=America/New_York:20250606T180000
DTEND;TZID=America/New_York:20250606T200000
DTSTAMP:20260424T080034
CREATED:20250429T142508Z
LAST-MODIFIED:20250607T004542Z
UID:6788-1749232800-1749240000@pack1lewes.com
SUMMARY:2025 Summertime Event: Funland Night
DESCRIPTION:Funland Rehoboth Beach\n  \nCost Per Wristband – $15 \nJoin us at Funland in Rehoboth Beach for a night of fun\, 6pm-8pm on June 6th. Ride for 2 hours with a Funland Wristband! Funland has classic rides\, like the carousel\, to more modern adventures aboard the Superflip360 or FreeSpin. Rides for the whole family\, from the Boats aimed at toddlers to the Haunted Mansion\, Bumper Cars and more for teens & adults. 15 midway games are designed for kids and adults alike.  From popping a balloon at Balloon Bust (and winning every time)\, to showboating your Skeeball skills\, there is something for everyone. \nThis event is open to Scouts\, Friends & Family. \nThe Activity (Class B) uniform is preferred. \nCost Per Wristband – $15 \nWristbands can be purchased & picked up at the event from Pack Leadership. \nNo Wristband is needed if not riding. \nRSVP kindly Requested.
URL:https://pack1lewes.com/event/summer-2025-event-funland-night/
LOCATION:Funland Rehoboth\, 6 Delaware Ave\, Rehoboth Beach\, 19971\, United States
CATEGORIES:Pack 1,Summer Time Activity
ATTACH;FMTTYPE=image/png:https://pack1lewes.com/wp-content/uploads/2023/06/Funland.png
END:VEVENT
BEGIN:VEVENT
DTSTART;TZID=America/New_York:20240822T183000
DTEND;TZID=America/New_York:20240822T200000
DTSTAMP:20260424T080034
CREATED:20230605T011251Z
LAST-MODIFIED:20240619T131616Z
UID:3416-1724351400-1724356800@pack1lewes.com
SUMMARY:Summertime Event: Welcome Back Field Day!
DESCRIPTION:FREE Event! \nThis is the final summertime event of our summer 2024 calendar. \nPlease join us for an evening of games at Milton Elementary School. \nScouts\, Families\, Friends\, & Neighbors are all Welcome! \nActivity (Class B) uniforms preferred\, but not required. \nThis is a great event for new and prospective scouts to attend to prepare for the 2023-24 scouting season! \nRSVP kindly requested.
URL:https://pack1lewes.com/event/summertime-event-6-welcome-back-field-day/
LOCATION:Milton Elementary School\, 512 Federal St.\, Milton\, DE\, 19968\, United States
CATEGORIES:Pack 1,Summer Time Activity
ATTACH;FMTTYPE=image/png:https://pack1lewes.com/wp-content/uploads/2023/07/Adventure-Day-2-2.png
END:VEVENT
BEGIN:VEVENT
DTSTART;TZID=America/New_York:20240816T160000
DTEND;TZID=America/New_York:20240818T120000
DTSTAMP:20260424T080034
CREATED:20230601T184930Z
LAST-MODIFIED:20240814T151538Z
UID:3584-1723824000-1723982400@pack1lewes.com
SUMMARY:Summertime Event: Summer Camping Trip CHSP
DESCRIPTION:Join us for our First Summer Camping Trip at Cape Henlopen State Park!\n\nFriday Evening August 16th 4pm thru Sunday August 18th 12pm\n  \n \nThis event is limited due to the size of the dorms. If we get overwhelming registrations\, we can add another dorm. \nWe will be staying in Cape Henlopen State Park Barracks/Dorms; \n\n15 people per dorm\nFurnished with 15 twin beds per dorm\nAir conditioning\nCentral bathhouse with showers\nCentral mess hall includes\n\nLarge dining area\nFull-sized industrial kitchen\n\n\nIndoor recreation space\nOutdoor campfire ring\nOutdoor volleyball net\nWalking distance to the main beach\, The Point\, and the playground\n\nWe will also be providing individual model Rockets for the Scouts to Assemble & Launch on Saturday Morning (Weather & Wind permitting)! \n \nReservation Costs will cover the Site\, Saturday Breakfast\, Lunch\, Dinner\, Sunday Breakfast\, Pack Activities\, depending on which reservation option you choose; \nOption #1 – Friday & Saturday Overnight – $40 per person. \n\n\n\n\n\nIncludes all Meals (Saturday & Sunday) & Activities & Model Rockets.\nFriday Evening meal is on individual campers.\n\n\n\n\n\nOption #2 – Saturday Overnight – $25 per person. \n\n\n\n\n\nIncludes Saturday Lunch & Dinner\,  Sunday Breakfast & Activities.\nDoes NOT include Model Rockets\, but You Can Still Watch the Launches.\n\n\n\n\n\nThis event is limited due to the size of the dorms\, 30 spots available for Option #1 & 15 spots available for Option #2. \nIf we get overwhelming registrations\, we can add another dorm. \nI want to launch a Rocket but I wont be there Friday Night? :\n  \nWe will have several “a la carte” Rocket Kits available on a first come first serve basis for $15\, launches are planned to begin shortly after breakfast.
URL:https://pack1lewes.com/event/summertime-camping-trip/
LOCATION:Cape Henlopen State Park\, 15099 Cape Henlopen Drive\, Lewes\, DE\, 19958\, United States
CATEGORIES:Camping Trip,Pack 1,Summer Time Activity
ATTACH;FMTTYPE=image/png:https://pack1lewes.com/wp-content/uploads/2023/06/CHSP.png
END:VEVENT
BEGIN:VEVENT
DTSTART;TZID=America/New_York:20240731T190000
DTEND;TZID=America/New_York:20240731T220000
DTSTAMP:20260424T080034
CREATED:20230605T201205Z
LAST-MODIFIED:20240730T113850Z
UID:3746-1722452400-1722463200@pack1lewes.com
SUMMARY:Summertime Event: Delmarva Shorebirds
DESCRIPTION:All Pack 1 scouts and families are invited to join us at the Delmarva Shorebirds game on July 31st vs. the Myrtle Beach Pelicans. \nGame starts at 7:00pm.  Tickets are $15 per person.  Everyone is welcome to join! \nPromotions at the game include; Scout Night Patch & Baseball Bingo. \nLimited Event\, 38 tickets available. \nActivity (Class B) uniforms preferred\, but not required. \nRSVP via Ticket Purchase is required by July 31st at Noon. 
URL:https://pack1lewes.com/event/summertime-event-4-delmarva-shorebirds/
LOCATION:Perdue Stadium\, 6400 Hobbs Rd.\, Salisbury\, MD\, 21804\, United States
CATEGORIES:Pack 1,Summer Time Activity
ATTACH;FMTTYPE=image/png:https://pack1lewes.com/wp-content/uploads/2022/07/DelmarvaShorebirdsLogo.png
END:VEVENT
BEGIN:VEVENT
DTSTART;TZID=America/New_York:20240707T180000
DTEND;TZID=America/New_York:20240707T200000
DTSTAMP:20260424T080034
CREATED:20230605T011016Z
LAST-MODIFIED:20240704T150414Z
UID:3716-1720375200-1720382400@pack1lewes.com
SUMMARY:Summertime Event: Sunset Cruise on Cape Water Tours
DESCRIPTION:Join us for a Sunset Cruise with Cape Water Tours from 6:15-8pm. \nThis event is limited to 50 people and is $25/person. Please reach out to Pack Leadership if the event is sold out. \nThe Delaware Bay Evening Cruise\, although not narrated\, offers our guests stunning views of popular local attractions such as the East End Lighthouse\, Cape Henlopen Point\, the Cape May Lewes Ferry terminal\, Lewes Beach\, and Cape Henlopen State Park\, just to name a few. \nThis popular cruise operates from Anglers Fishing Center\, sailing into the Delaware Bay via the Roosevelt Inlet. Please check your departure time upon making reservations\, as they will vary with the changing sunset times throughout the season. \nIf there are unfavorable wind or wave conditions on the bay\, this cruise will remain in the sheltered waters of the Broadkill River and/or Lewes-Rehoboth canal. Join us for beautiful views of some of our most popular local attractions\, and the chance to see wildlife and enjoy the sunset. \nActivity (Class B) uniforms preferred\, but not required. \nThe Dock is located in Lewes\, take Route 9 East. Cross the drawbridge and make an immediate left onto Anglers Road. Our Dock is just past Irish Eyes Restaurant\, on the left\, behind the white building with the blue roof that says\, “Anglers Fishing Center”.
URL:https://pack1lewes.com/event/summertime-event-5-sunset-cruise-on-cape-water-taxi/
LOCATION:Cape Water Tours\, 217 Anglers Rd\, Lewes\, DE\, 19958\, United States
CATEGORIES:Pack 1,Summer Time Activity
ATTACH;FMTTYPE=image/jpeg:https://pack1lewes.com/wp-content/uploads/2023/07/279619345_5035121109875936_1993237344127307232_n.jpg
END:VEVENT
BEGIN:VEVENT
DTSTART;TZID=America/New_York:20240624T180000
DTEND;TZID=America/New_York:20240624T200000
DTSTAMP:20260424T080034
CREATED:20230523T013515Z
LAST-MODIFIED:20240619T131359Z
UID:3410-1719252000-1719259200@pack1lewes.com
SUMMARY:Summertime Event: Beach Cleanup Night & Flag Retirement
DESCRIPTION:FREE Event! \nAll Pack 1 scouts and families are invited to join us the evening of June 24th at 6:00pm on Johnnie Walker Beach (Lewes Beach #2). \nWe will be doing a beach cleanup service event and having a U.S. flag retirement ceremony. \nActivity (Class B) uniforms preferred\, but not required. \nThis is a free event for the entire family.  Friends (prospective scouts) are also welcome to attend! \nRSVP kindly Requested.
URL:https://pack1lewes.com/event/summertime-event-1-beach-night-flag-retirement/
LOCATION:Johnnie Walker Beach\, 1 Georgia Ave\, Lewes\, DE\, 19958\, United States
CATEGORIES:Pack 1,Summer Time Activity
ATTACH;FMTTYPE=image/jpeg:https://pack1lewes.com/wp-content/uploads/2023/05/american-flag-beach-american-flag-beach-sunny-day-new-york-108392845.jpg
END:VEVENT
BEGIN:VEVENT
DTSTART;TZID=America/New_York:20240606T180000
DTEND;TZID=America/New_York:20240606T200000
DTSTAMP:20260424T080034
CREATED:20230619T220028Z
LAST-MODIFIED:20240614T171012Z
UID:3808-1717696800-1717704000@pack1lewes.com
SUMMARY:Summertime Event: Funland Night
DESCRIPTION:Funland Rehoboth Beach\n  \nCost Per Wristband – $13 \nJoin us at Funland in Rehoboth Beach for a night of fun\, 6pm-8pm on June 6th. Ride for 2 hours with a Funland Wristband! Funland has classic rides\, like the carousel\, to more modern adventures aboard the Superflip360 or FreeSpin. Rides for the whole family\, from the Boats aimed at toddlers to the Haunted Mansion\, Bumper Cars and more for teens & adults. 15 midway games are designed for kids and adults alike.  From popping a balloon at Balloon Bust (and winning every time)\, to showboating your Skeeball skills\, there is something for everyone. \nThis event is open to Scouts\, Friends & Family. \nThe Activity (Class B) uniform is preferred. \nCost Per Wristband – $13 \nWristbands can be purchased & picked up at the event from Pack Leadership. \nNo Wristband is needed if not riding. \nRSVP kindly Requested.
URL:https://pack1lewes.com/event/summertime-event-funland/
LOCATION:Funland Rehoboth\, 6 Delaware Ave\, Rehoboth Beach\, 19971\, United States
CATEGORIES:Pack 1,Summer Time Activity
ATTACH;FMTTYPE=image/png:https://pack1lewes.com/wp-content/uploads/2023/06/Funland.png
END:VEVENT
BEGIN:VEVENT
DTSTART;TZID=America/New_York:20240602T110000
DTEND;TZID=America/New_York:20240602T170000
DTSTAMP:20260424T080034
CREATED:20240524T004131Z
LAST-MODIFIED:20240614T171016Z
UID:5470-1717326000-1717347600@pack1lewes.com
SUMMARY:Summertime Event: Baltimore Orioles Scout Day
DESCRIPTION:Scout Day with the Orioles – Registration is Closed. \nParade & Patch Information \nWelcome to the Scout Day with the Orioles on June 2.\nWe are very excited to announce the opportunity to participate in the pre-game parade of our Scouts and Scouters.\nScouts and Scouters will march around the inside Warning Track of the Ballpark. \nScouts and Scouters must be in uniform to participate in the parade. \nGame Day Timeline \n\n\n\n10:30 AM\nStadium parking lots open\n\n\n11:00 AM\nParade participants arrive at Home Plate Plaza \n\nHome Plate Plaza entrance has a green awning near Gate D\nGate E will be open for restrooms prior to the stadium opening at 11:45 AM\n\n\n\n\n11:45 AM\nGates D\, E and Home Plate Plaza open for all guests\n\n\n12:10 PM\nParade Participants line up on the ramp with unit flags outside of the Home Plate Plaza\n\n\n12:15 PM\nScouts Day Parade Begins on the field\n\n\n12:30 PM\nParade Concludes \n\nGates A & H open for all fans\nParade Participants use Gates D & E\n\n\n\n\n1:00 PM\nPregame ceremonies begin\n\n\n1:35 PM\nFirst Pitch\n\n\n\n  \nScout Day Patch \nThe first 3\,000 Scouts in their uniform will receive a free Scout Day with the O’s patch.\nPatches will be distributed at Gate D (gate with green awning) prior to the end of the 1st inning. \nSee you at the ballpark!  Go O’s!
URL:https://pack1lewes.com/event/summertime-event-baltimore-orioles-scout-day/
LOCATION:Oriole Park at Camden Yards\, 333 W Camden St\, Baltimore\, MD\, 21201\, United States
CATEGORIES:Pack 1,Summer Time Activity
ATTACH;FMTTYPE=image/jpeg:https://pack1lewes.com/wp-content/uploads/2024/05/2024_Scout_Day_Flyer.jpg
END:VEVENT
END:VCALENDAR