BEGIN:VCALENDAR
VERSION:2.0
PRODID:-//Pack 1 Cub Scouts - Lewes, DE - ECPv6.15.20//NONSGML v1.0//EN
CALSCALE:GREGORIAN
METHOD:PUBLISH
X-ORIGINAL-URL:https://pack1lewes.com
X-WR-CALDESC:Events for Pack 1 Cub Scouts - Lewes, DE
REFRESH-INTERVAL;VALUE=DURATION:PT1H
X-Robots-Tag:noindex
X-PUBLISHED-TTL:PT1H
BEGIN:VTIMEZONE
TZID:America/New_York
BEGIN:DAYLIGHT
TZOFFSETFROM:-0500
TZOFFSETTO:-0400
TZNAME:EDT
DTSTART:20250309T070000
END:DAYLIGHT
BEGIN:STANDARD
TZOFFSETFROM:-0400
TZOFFSETTO:-0500
TZNAME:EST
DTSTART:20251102T060000
END:STANDARD
BEGIN:DAYLIGHT
TZOFFSETFROM:-0500
TZOFFSETTO:-0400
TZNAME:EDT
DTSTART:20260308T070000
END:DAYLIGHT
BEGIN:STANDARD
TZOFFSETFROM:-0400
TZOFFSETTO:-0500
TZNAME:EST
DTSTART:20261101T060000
END:STANDARD
BEGIN:DAYLIGHT
TZOFFSETFROM:-0500
TZOFFSETTO:-0400
TZNAME:EDT
DTSTART:20270314T070000
END:DAYLIGHT
BEGIN:STANDARD
TZOFFSETFROM:-0400
TZOFFSETTO:-0500
TZNAME:EST
DTSTART:20271107T060000
END:STANDARD
END:VTIMEZONE
BEGIN:VEVENT
DTSTART;TZID=America/New_York:20260228T120000
DTEND;TZID=America/New_York:20260228T180000
DTSTAMP:20260425T070632
CREATED:20251204T213026Z
LAST-MODIFIED:20260228T014145Z
UID:7913-1772280000-1772301600@pack1lewes.com
SUMMARY:The Pinewood Derby 2026
DESCRIPTION:2026 Pack One Pinewood Derby!\nPlease RSVP if Racing! One RSVP per YOUTH racing\, adults watching don’t need to RSVP.\n  \nDerby Cars must be completed & turned in for check in\, weigh in & storage Friday February 27th 6pm-8pm at the Holly Lake Campsites Meeting Room.  \nRace Location:\nHolly Lake Campsites \n32087 Holly Lake Rd\, Millsboro\, DE 19966 \nDen Race Schedule: \nSaturday\, February 28\, 2025 \n12:00PM: Lions \n12:45PM: Tiger \n1:30PM: Wolves \n2:15PM: Bears \n3:00PM: Webelos \n3:45PM: AOLs \n4:45PM: Championship (Top 6 cars in the pack\, fastest racer in each Den) \n4:25pm: Adult Race – Ticket Required to Race. \nAwards\nPlace of Finish \n\nScouts who place 1st-4th in their den heat will receive a place of finish patch to match their finish position.\nScouts who place 1st-3rd overall for their den will receive a trophy\nThe top 6 cars in the Pack (by time) will compete immediately after the AOL den for the pack championship. Scouts who finish 1st – 3rd overall for the entire pack will receive a trophy.\nDesign Awards\n\nFor those scouts who care more about the appearance of their car versus speed\, we have four design awards to be distributed to the entire pack: \n\nBest overall design\nMost realistic\nBest Scouting theme\nMost unique or funny.\n\nRules\nPlease remember to follow the rules which are included with the car kits: \n\nNO PRE-BUILT PURCHASED DERBY CARS!\nThe car must not weigh over 5 ounces\nOnly powdered graphite can be used as lubricant\nCars must be 7” long (length of the original block)\nWidth between wheels must be 1 3/4” (width of the original block)\nA 4 3/8” wheelbase (distance as measured between original block’s axle slots)\nAll other rules included in the derby kit or at this link.\nDerby Cars must be completed & turned in for check in\, weigh in & storage Friday February 27th 6pm-8pm at the Holly Lake Campsites. \n\nAny Derby Cars not meeting the rules may be fixed/adjusted & re-tested. If they still fail\, they may still race\, but no award may be earned. \nIf you have any specific questions about the rules or derby in general\, feel free to email leadership and we will gladly answer your questions. \nVery\, very basic emergency car repair materials will be available\, do not arrive needing extra weight\, or graphite. \nPlease remember that the Pinewood Derby is to be a learning experience for your scouts to build and show their car (as much as age appropriate). Do not purchase a car or race kit. Do not build the entire car for your scout. Neither of those teaches your scout any skills and it is unfair to the other scouts who worked hard on their car. \nBack this year we have the Adult Race! Rules are the same for Scouts & Adults. Only $10 to race. Tickets for Adults that are racing & RSVPs for Scouts below. ADULTS JUST WATCHING DON’T NEED TO RSVP.
URL:https://pack1lewes.com/event/the-pinewood-derby-2026/
LOCATION:Holly Lake Campground\, 32087 Holly Lake Rd\, Millsboro\, DE\, 19966\, United States
CATEGORIES:Pack 1,Special Event
ATTACH;FMTTYPE=image/jpeg:https://pack1lewes.com/wp-content/uploads/2025/03/MD_image_16765783010_14764.jpg
END:VEVENT
BEGIN:VEVENT
DTSTART;TZID=America/New_York:20260311T183000
DTEND;TZID=America/New_York:20260311T200000
DTSTAMP:20260425T070632
CREATED:20260119T161244Z
LAST-MODIFIED:20260119T161244Z
UID:8169-1773253800-1773259200@pack1lewes.com
SUMMARY:Arrow of Light Ceremony
DESCRIPTION:Arrow of Light Scouts & their Families are invited to join us for Scouting Skills demonstrations & awarding of the Arrow of Light. \nWhere: St Peter’s Chapel \nWhen: March 11th 6:30pm \nFull Field Uniforms (Class A) ready for inspection. \nPlease RSVP below.
URL:https://pack1lewes.com/event/arrow-of-light-ceremony-2/
LOCATION:St. Peter’s Episcopal Church – Chapel\, 200 2nd St.\, Lewes\, DE\, 19958\, United States
ATTACH;FMTTYPE=image/png:https://pack1lewes.com/wp-content/uploads/2022/08/ArrowOfLight.png
END:VEVENT
BEGIN:VEVENT
DTSTART;TZID=America/New_York:20260322T140000
DTEND;TZID=America/New_York:20260322T170000
DTSTAMP:20260425T070632
CREATED:20251204T215032Z
LAST-MODIFIED:20260319T171211Z
UID:7925-1774188000-1774198800@pack1lewes.com
SUMMARY:Blue & Gold Banquet 2026
DESCRIPTION:All cub scouts and their families are invited to join us for our annual Blue & Gold banquet!  Lunch will be provided. \nScouts will receive awards and our AOL den will cross over to join a Scouting America Troop. \nThe Blue & Gold Banquet is considered our Pack Meeting for the month of March. \nLocation: St Jude the Apostle in Lewes. \nRSVPs Kindly Requested.
URL:https://pack1lewes.com/event/blue-gold-banquet-2026/
LOCATION:St. Jude The Apostle Church – Parish Hall\, 152 Tulip Dr #1689\, Lewes\, DE\, 19958\, United States
CATEGORIES:Pack 1,Special Event
ATTACH;FMTTYPE=image/jpeg:https://pack1lewes.com/wp-content/uploads/2022/07/bluegoldlogo_225.jpeg
END:VEVENT
BEGIN:VEVENT
DTSTART;TZID=America/New_York:20260411T100000
DTEND;TZID=America/New_York:20260411T170000
DTSTAMP:20260425T070632
CREATED:20251204T214406Z
LAST-MODIFIED:20260302T002935Z
UID:7920-1775901600-1775926800@pack1lewes.com
SUMMARY:Coastal District Pinewood Derby
DESCRIPTION:2026 Coastal District Pinewood Derby Race\nat Avenue United Methodist Church\n20 N Church St\, Milford\, DE 19963\n\nSaturday\, April 11\, 2026    12pm-5pm\n\n\nThis Event is Invitation Only – Do Not Register if you didn’t receive an official invite from Pack One Leadership!\n\n\nCost:  $10.00 per car\n\n\nThe Coastal Pinewood Derby is a fun and energetic Scouting event where youth race small wooden cars they’ve built. The top 2 Winners for each Den Level from each Pack in Coastal District are invited. Cars are weighed\, measured at the Pack Level Pinewood Derby\, a quick check will be done here too at check in before the race to ensure they meet the standard rules. Races are run on a 4 lane sloped aluminum track\, and cars compete in heats\, with times recorded electronically. The Top Finisher from each Den will then Race for an overall District Winner! \nYou don’t need to bring anything special except your Derby Cars & enthusiasm! Families often take photos\, encourage their Scouts\, and celebrate every run\, whether it wins or not. Awards will be given for fastest race times. Most importantly\, the Pinewood Derby is about having fun and supporting youth as they show off something they built with pride. \n***Scouting America’s Pinewood Derby Car Building Rules*** \nEach local Pinewood Derby committee determines the rules for building and racing cars. The committee will need to make sure their rules don’t conflict with those of the district or council to ensure their members can participate in events at those levels. \n\nAll cars must pass the following inspection to qualify for the race:\nWidth shall not exceed 2-3/4 inches.\nLength shall not exceed 7 inches.\nWeight shall not exceed 5 ounces.\nWheelbase shall not be altered from the standard derby kit location.\nAxles\, wheels\, and body shall be from the materials provided in the kit. Additional wheels can be purchased separately.\nWheel bearings\, washers\, and bushings are prohibited.\nNo part of the car may extend in front of/beyond the start gate.\nNo lubricating oil may be used. Axles may be lubricated with powdered graphite or silicone.\nThe car shall not ride on any kind of spring.\nAll 4 wheels must touch the track during the race.\nThe car must be free-wheeling\, with no starting devices.\nNo loose materials of any kind are allowed in the car.\n\nStaggered Start Times will be released closer to the event. \nEvent contact is Chris Huebler at hueblerbsa@gmail.com
URL:https://pack1lewes.com/event/coastal-district-pinewood-derby-2/
LOCATION:Avenue United Methodist Church\, 20 N. Church Street\, Milford\, DE\, 19963\, United States
CATEGORIES:District Activity
ATTACH;FMTTYPE=image/jpeg:https://pack1lewes.com/wp-content/uploads/2025/03/MD_image_16765783010_14764.jpg
END:VEVENT
BEGIN:VEVENT
DTSTART;TZID=America/New_York:20260424T120000
DTEND;TZID=America/New_York:20260426T170000
DTSTAMP:20260425T070632
CREATED:20260119T162257Z
LAST-MODIFIED:20260404T161907Z
UID:8172-1777032000-1777222800@pack1lewes.com
SUMMARY:DMVC Jamboree
DESCRIPTION:2026 Del-Mar-Va Council Jamboree\n“A Declaration of Adventure” \nCelebrating America’s 250th Anniversary\n\nThis special event commemorates the rich tradition of Scout jamborees while celebrating our nation’s founding principles and Delaware’s vital role in American history. Scouts will engage in the “Patriotic Pathways”\, specially designed series of activities that guide youth ages 5 through 20 on a journey through Delaware’s and our nation’s history\, from colonial times to the present day! We look forward to welcoming you to this memorable celebration of Scouting and American heritage. \n\nWhen: April 24-26\, 2026 \nWhere: Akridge Scout Reservation\, 1910 Baden Powell Way\, Dover\, DE 19904 \nActivities include:\nHistorical Games\nPeriod Reenactments\nBB\, Archery\nClimbing Wall\nCooking\nFishing\nSkills Challenges\nCrafts\nTechnology Demos\nAnd much\, MUCH more! \nCost (includes tent camping):  \nYouth (under 21):  $35 Early Bird Price – if paid in full by 3/31/2026 – $46 Regular Price – if paid on or after 4/1/2026 \nAdult (21 and older): $20 Early Bird Price – if paid in full by 3/31/2026 – $32 Regular Price -if paid on or after 4/1/2026
URL:https://pack1lewes.com/event/dmvc-jamboree/
LOCATION:Akridge Scout Reservation\, 1910 Baden Powell Way\, Dover\, DE\, 19904\, United States
CATEGORIES:Camping Trip,Pack 1
ATTACH;FMTTYPE=image/png:https://pack1lewes.com/wp-content/uploads/2026/01/MD_image_17647940560_14764.png
END:VEVENT
BEGIN:VEVENT
DTSTART;TZID=America/New_York:20260828T080000
DTEND;TZID=America/New_York:20260830T170000
DTSTAMP:20260425T070632
CREATED:20260119T163943Z
LAST-MODIFIED:20260119T163943Z
UID:8178-1787904000-1788109200@pack1lewes.com
SUMMARY:2026 Summer Camping Trip
DESCRIPTION:Join us for our Summer Camping Trip at Cape Henlopen State Park!\n\nFriday Evening August 28th 4pm thru Sunday August 30th 12pm\n  \n \nThis event is limited due to the size of the dorms. If we get overwhelming registrations\, we can add another dorm. \nWe will be staying in Cape Henlopen State Park Barracks/Dorms; \n\n15 people per dorm\nFurnished with 15 twin beds per dorm\nAir conditioning\nCentral bathhouse with showers\nCentral mess hall includes\n\nLarge dining area\nFull-sized industrial kitchen\n\n\nIndoor recreation space\nOutdoor campfire ring\nOutdoor volleyball net\nWalking distance to the main beach\, The Point\, and the playground\n\nReservation Costs will cover the Site\, Saturday Breakfast\, Lunch\, Dinner\, Sunday Breakfast\, Pack Activities\, depending on which reservation option you choose; \nOption #1 – Friday & Saturday Overnight – $40 per person. \n\n\n\n\n\nIncludes all Meals (Saturday & Sunday) & Activities.\nFriday Evening meal is on individual campers.\n\n\n\n\n\nOption #2 – Saturday Overnight – $30 per person. \n\n\n\n\n\nIncludes Saturday Lunch\, Dinner\, Sunday Breakfast & Activities.\n\n\n\n\n\nThis event is limited due to the size of the dorms\, 45 spots available for Option #1 & 15 spots available for Option #2. \nIf we get overwhelming registrations\, we can add another dorm.
URL:https://pack1lewes.com/event/2026-summer-camping-trip/
LOCATION:Cape Henlopen State Park\, 15099 Cape Henlopen Drive\, Lewes\, DE\, 19958\, United States
CATEGORIES:Camping Trip,Pack 1
ATTACH;FMTTYPE=image/png:https://pack1lewes.com/wp-content/uploads/2023/06/CHSP.png
END:VEVENT
END:VCALENDAR