BEGIN:VCALENDAR
VERSION:2.0
PRODID:-//Pack 1 Cub Scouts - Lewes, DE - ECPv6.15.20//NONSGML v1.0//EN
CALSCALE:GREGORIAN
METHOD:PUBLISH
X-WR-CALNAME:Pack 1 Cub Scouts - Lewes, DE
X-ORIGINAL-URL:https://pack1lewes.com
X-WR-CALDESC:Events for Pack 1 Cub Scouts - Lewes, DE
REFRESH-INTERVAL;VALUE=DURATION:PT1H
X-Robots-Tag:noindex
X-PUBLISHED-TTL:PT1H
BEGIN:VTIMEZONE
TZID:America/New_York
BEGIN:DAYLIGHT
TZOFFSETFROM:-0500
TZOFFSETTO:-0400
TZNAME:EDT
DTSTART:20230312T070000
END:DAYLIGHT
BEGIN:STANDARD
TZOFFSETFROM:-0400
TZOFFSETTO:-0500
TZNAME:EST
DTSTART:20231105T060000
END:STANDARD
BEGIN:DAYLIGHT
TZOFFSETFROM:-0500
TZOFFSETTO:-0400
TZNAME:EDT
DTSTART:20240310T070000
END:DAYLIGHT
BEGIN:STANDARD
TZOFFSETFROM:-0400
TZOFFSETTO:-0500
TZNAME:EST
DTSTART:20241103T060000
END:STANDARD
BEGIN:DAYLIGHT
TZOFFSETFROM:-0500
TZOFFSETTO:-0400
TZNAME:EDT
DTSTART:20250309T070000
END:DAYLIGHT
BEGIN:STANDARD
TZOFFSETFROM:-0400
TZOFFSETTO:-0500
TZNAME:EST
DTSTART:20251102T060000
END:STANDARD
END:VTIMEZONE
BEGIN:VEVENT
DTSTART;TZID=America/New_York:20240519T190000
DTEND;TZID=America/New_York:20240519T200000
DTSTAMP:20260425T123314
CREATED:20240515T171539Z
LAST-MODIFIED:20240614T171027Z
UID:5166-1716145200-1716148800@pack1lewes.com
SUMMARY:Cub Scout Program Update Virtual Meeting
DESCRIPTION:Join us for a Virtual Meeting to discuss the Cub Program overhaul.\n  \nCub Scout Program Updates & Changes Virtual Meeting; \nMay 19th @ 7:00pm \nhttps://us02web.zoom.us/j/81334905191?pwd=WUJFRWxzZVVxTFNHYWpJdWZISlB5dz09 \nMeeting ID: 813 3490 5191 \nPasscode: un^d3R \n 
URL:https://pack1lewes.com/event/cub-scout-program-update-virtual-meeting/
CATEGORIES:Pack 1,Special Event
ATTACH;FMTTYPE=image/jpeg:https://pack1lewes.com/wp-content/uploads/2024/05/cub-scout-updates-1-20240220-135137.jpeg
END:VEVENT
BEGIN:VEVENT
DTSTART;TZID=America/New_York:20240426T160000
DTEND;TZID=America/New_York:20240428T120000
DTSTAMP:20260425T123314
CREATED:20230605T014326Z
LAST-MODIFIED:20240614T171030Z
UID:3432-1714147200-1714305600@pack1lewes.com
SUMMARY:Spring Camping Trip at Trap Pond
DESCRIPTION:Our Spring camping trip will take place at Trap Pond State Park campground from Friday\, April 26th at 4pm – Sunday\, April 28th at 12pm.\n  \nThis is a great two night camping trip to attend whether you are an expert or have never camped before. While we encourage you to spend either Saturday night or both Friday & Saturday nights\, all Scouts & Families are welcome to join us for activities on Saturday. Our Campfire program will be on Saturday evening. The campground has indoor restrooms\, plus a bathhouse nearby. Meals will be provided for Saturday breakfast\, lunch & dinner\, plus Sunday breakfast. Friday evening meals will be on individual Dens or Families.\n  \nCost for Both Friday & Saturday Nights: $35/adult $20/child\, Scouts are free \nCost for Saturday Night Only: $25/adult $15/child\, Scouts are free \nCost for Saturday Activities\, Meals & Campfire: $20/adult $10/child\, Scouts are free \nPLEASE ONLY SELECT ONE OF THE THREE OPTIONS FOR  YOUR TICKETS.
URL:https://pack1lewes.com/event/spring-camping-trip-at-trap-pond/
LOCATION:Trap Pond State Park\, 33587 Baldcypress Lane\, Laurel\, 19956
CATEGORIES:Camping Trip,Pack 1
ATTACH;FMTTYPE=image/jpeg:https://pack1lewes.com/wp-content/uploads/2023/05/Trap-Pond-Sign.jpeg
END:VEVENT
END:VCALENDAR