BEGIN:VCALENDAR
VERSION:2.0
PRODID:-//Pack 1 Cub Scouts - Lewes, DE - ECPv6.15.20//NONSGML v1.0//EN
CALSCALE:GREGORIAN
METHOD:PUBLISH
X-ORIGINAL-URL:https://pack1lewes.com
X-WR-CALDESC:Events for Pack 1 Cub Scouts - Lewes, DE
REFRESH-INTERVAL;VALUE=DURATION:PT1H
X-Robots-Tag:noindex
X-PUBLISHED-TTL:PT1H
BEGIN:VTIMEZONE
TZID:America/New_York
BEGIN:DAYLIGHT
TZOFFSETFROM:-0500
TZOFFSETTO:-0400
TZNAME:EDT
DTSTART:20230312T070000
END:DAYLIGHT
BEGIN:STANDARD
TZOFFSETFROM:-0400
TZOFFSETTO:-0500
TZNAME:EST
DTSTART:20231105T060000
END:STANDARD
BEGIN:DAYLIGHT
TZOFFSETFROM:-0500
TZOFFSETTO:-0400
TZNAME:EDT
DTSTART:20240310T070000
END:DAYLIGHT
BEGIN:STANDARD
TZOFFSETFROM:-0400
TZOFFSETTO:-0500
TZNAME:EST
DTSTART:20241103T060000
END:STANDARD
BEGIN:DAYLIGHT
TZOFFSETFROM:-0500
TZOFFSETTO:-0400
TZNAME:EDT
DTSTART:20250309T070000
END:DAYLIGHT
BEGIN:STANDARD
TZOFFSETFROM:-0400
TZOFFSETTO:-0500
TZNAME:EST
DTSTART:20251102T060000
END:STANDARD
END:VTIMEZONE
BEGIN:VEVENT
DTSTART;TZID=America/New_York:20240707T180000
DTEND;TZID=America/New_York:20240707T200000
DTSTAMP:20260425T114258
CREATED:20230605T011016Z
LAST-MODIFIED:20240704T150414Z
UID:3716-1720375200-1720382400@pack1lewes.com
SUMMARY:Summertime Event: Sunset Cruise on Cape Water Tours
DESCRIPTION:Join us for a Sunset Cruise with Cape Water Tours from 6:15-8pm. \nThis event is limited to 50 people and is $25/person. Please reach out to Pack Leadership if the event is sold out. \nThe Delaware Bay Evening Cruise\, although not narrated\, offers our guests stunning views of popular local attractions such as the East End Lighthouse\, Cape Henlopen Point\, the Cape May Lewes Ferry terminal\, Lewes Beach\, and Cape Henlopen State Park\, just to name a few. \nThis popular cruise operates from Anglers Fishing Center\, sailing into the Delaware Bay via the Roosevelt Inlet. Please check your departure time upon making reservations\, as they will vary with the changing sunset times throughout the season. \nIf there are unfavorable wind or wave conditions on the bay\, this cruise will remain in the sheltered waters of the Broadkill River and/or Lewes-Rehoboth canal. Join us for beautiful views of some of our most popular local attractions\, and the chance to see wildlife and enjoy the sunset. \nActivity (Class B) uniforms preferred\, but not required. \nThe Dock is located in Lewes\, take Route 9 East. Cross the drawbridge and make an immediate left onto Anglers Road. Our Dock is just past Irish Eyes Restaurant\, on the left\, behind the white building with the blue roof that says\, “Anglers Fishing Center”.
URL:https://pack1lewes.com/event/summertime-event-5-sunset-cruise-on-cape-water-taxi/
LOCATION:Cape Water Tours\, 217 Anglers Rd\, Lewes\, DE\, 19958\, United States
CATEGORIES:Pack 1,Summer Time Activity
ATTACH;FMTTYPE=image/jpeg:https://pack1lewes.com/wp-content/uploads/2023/07/279619345_5035121109875936_1993237344127307232_n.jpg
END:VEVENT
BEGIN:VEVENT
DTSTART;TZID=America/New_York:20240731T190000
DTEND;TZID=America/New_York:20240731T220000
DTSTAMP:20260425T114258
CREATED:20230605T201205Z
LAST-MODIFIED:20240730T113850Z
UID:3746-1722452400-1722463200@pack1lewes.com
SUMMARY:Summertime Event: Delmarva Shorebirds
DESCRIPTION:All Pack 1 scouts and families are invited to join us at the Delmarva Shorebirds game on July 31st vs. the Myrtle Beach Pelicans. \nGame starts at 7:00pm.  Tickets are $15 per person.  Everyone is welcome to join! \nPromotions at the game include; Scout Night Patch & Baseball Bingo. \nLimited Event\, 38 tickets available. \nActivity (Class B) uniforms preferred\, but not required. \nRSVP via Ticket Purchase is required by July 31st at Noon. 
URL:https://pack1lewes.com/event/summertime-event-4-delmarva-shorebirds/
LOCATION:Perdue Stadium\, 6400 Hobbs Rd.\, Salisbury\, MD\, 21804\, United States
CATEGORIES:Pack 1,Summer Time Activity
ATTACH;FMTTYPE=image/png:https://pack1lewes.com/wp-content/uploads/2022/07/DelmarvaShorebirdsLogo.png
END:VEVENT
END:VCALENDAR